BEGIN:VCALENDAR
VERSION:2.0
PRODID:-//Titan Darts - ECPv6.15.20//NONSGML v1.0//EN
CALSCALE:GREGORIAN
METHOD:PUBLISH
X-ORIGINAL-URL:https://titandarts.com
X-WR-CALDESC:Events for Titan Darts
REFRESH-INTERVAL;VALUE=DURATION:PT1H
X-Robots-Tag:noindex
X-PUBLISHED-TTL:PT1H
BEGIN:VTIMEZONE
TZID:America/Denver
BEGIN:DAYLIGHT
TZOFFSETFROM:-0700
TZOFFSETTO:-0600
TZNAME:MDT
DTSTART:20260308T090000
END:DAYLIGHT
BEGIN:STANDARD
TZOFFSETFROM:-0600
TZOFFSETTO:-0700
TZNAME:MST
DTSTART:20261101T080000
END:STANDARD
BEGIN:DAYLIGHT
TZOFFSETFROM:-0700
TZOFFSETTO:-0600
TZNAME:MDT
DTSTART:20270314T090000
END:DAYLIGHT
BEGIN:STANDARD
TZOFFSETFROM:-0600
TZOFFSETTO:-0700
TZNAME:MST
DTSTART:20271107T080000
END:STANDARD
BEGIN:DAYLIGHT
TZOFFSETFROM:-0700
TZOFFSETTO:-0600
TZNAME:MDT
DTSTART:20280312T090000
END:DAYLIGHT
BEGIN:STANDARD
TZOFFSETFROM:-0600
TZOFFSETTO:-0700
TZNAME:MST
DTSTART:20281105T080000
END:STANDARD
END:VTIMEZONE
BEGIN:VEVENT
DTSTART;TZID=America/Denver:20270301T183000
DTEND;TZID=America/Denver:20270301T235900
DTSTAMP:20260421T090648
CREATED:20260224T113456Z
LAST-MODIFIED:20260224T151926Z
UID:10005267-1803925800-1803945540@titandarts.com
SUMMARY:Summer League Information Monday Events
DESCRIPTION:UNLIMITED WOMENS HANDICAP DOUBLES – MIXED 01/CRICKET – 15 GAMES – $11/PLAYER
URL:https://titandarts.com/event-2/summer-league-information-monday-events/2027-03-01/
CATEGORIES:Summer League Information
ATTACH;FMTTYPE=image/webp:https://titandarts.com/wp-content/uploads/2026/02/imgi_6_rsw_400h_533-1.webp
END:VEVENT
BEGIN:VEVENT
DTSTART;TZID=America/Denver:20270302T183000
DTEND;TZID=America/Denver:20270302T235900
DTSTAMP:20260421T090648
CREATED:20260224T113859Z
LAST-MODIFIED:20260224T151841Z
UID:10005528-1804012200-1804031940@titandarts.com
SUMMARY:Summer League Information Tuesday Events
DESCRIPTION:21 CAP HANDICAP DOUBLES – MIXED 01/CRICKET – 19 GAMES – $15/PLAYER
URL:https://titandarts.com/event-2/summer-league-information-tuesday-events/2027-03-02/
CATEGORIES:Summer League Information
ATTACH;FMTTYPE=image/webp:https://titandarts.com/wp-content/uploads/2026/02/imgi_6_rsw_400h_533-1.webp
END:VEVENT
BEGIN:VEVENT
DTSTART;VALUE=DATE:20270303
DTEND;VALUE=DATE:20270304
DTSTAMP:20260421T090648
CREATED:20260224T114057Z
LAST-MODIFIED:20260224T152041Z
UID:10004225-1804032000-1804118399@titandarts.com
SUMMARY:Summer League Information Wednesday Events
DESCRIPTION:15 CAP HANDICAP DOUBLES – MIXED 01/ CRICKET – 17 GAMES – $11/PLAYER
URL:https://titandarts.com/event-2/summer-league-information-wednesday-events/2027-03-03/
CATEGORIES:Summer League Information
ATTACH;FMTTYPE=image/webp:https://titandarts.com/wp-content/uploads/2026/02/imgi_6_rsw_400h_533-1.webp
END:VEVENT
BEGIN:VEVENT
DTSTART;TZID=America/Denver:20270304T183000
DTEND;TZID=America/Denver:20270304T220000
DTSTAMP:20260421T090648
CREATED:20260224T114252Z
LAST-MODIFIED:20260224T152121Z
UID:10005005-1804185000-1804197600@titandarts.com
SUMMARY:Summer League Information Thursday Events
DESCRIPTION:7 CAP HANDICAP – MIXED 01/CRICKET – 15 GAMES – $10/PLAYER
URL:https://titandarts.com/event-2/summer-league-information-thursday-events/2027-03-04/
CATEGORIES:Summer League Information
ATTACH;FMTTYPE=image/webp:https://titandarts.com/wp-content/uploads/2026/02/imgi_6_rsw_400h_533-1.webp
END:VEVENT
BEGIN:VEVENT
DTSTART;TZID=America/Denver:20270308T183000
DTEND;TZID=America/Denver:20270308T235900
DTSTAMP:20260421T090648
CREATED:20260224T113456Z
LAST-MODIFIED:20260224T151926Z
UID:10005268-1804530600-1804550340@titandarts.com
SUMMARY:Summer League Information Monday Events
DESCRIPTION:UNLIMITED WOMENS HANDICAP DOUBLES – MIXED 01/CRICKET – 15 GAMES – $11/PLAYER
URL:https://titandarts.com/event-2/summer-league-information-monday-events/2027-03-08/
CATEGORIES:Summer League Information
ATTACH;FMTTYPE=image/webp:https://titandarts.com/wp-content/uploads/2026/02/imgi_6_rsw_400h_533-1.webp
END:VEVENT
BEGIN:VEVENT
DTSTART;TZID=America/Denver:20270309T183000
DTEND;TZID=America/Denver:20270309T235900
DTSTAMP:20260421T090648
CREATED:20260224T113859Z
LAST-MODIFIED:20260224T151841Z
UID:10005529-1804617000-1804636740@titandarts.com
SUMMARY:Summer League Information Tuesday Events
DESCRIPTION:21 CAP HANDICAP DOUBLES – MIXED 01/CRICKET – 19 GAMES – $15/PLAYER
URL:https://titandarts.com/event-2/summer-league-information-tuesday-events/2027-03-09/
CATEGORIES:Summer League Information
ATTACH;FMTTYPE=image/webp:https://titandarts.com/wp-content/uploads/2026/02/imgi_6_rsw_400h_533-1.webp
END:VEVENT
BEGIN:VEVENT
DTSTART;VALUE=DATE:20270310
DTEND;VALUE=DATE:20270311
DTSTAMP:20260421T090648
CREATED:20260224T114057Z
LAST-MODIFIED:20260224T152041Z
UID:10004226-1804636800-1804723199@titandarts.com
SUMMARY:Summer League Information Wednesday Events
DESCRIPTION:15 CAP HANDICAP DOUBLES – MIXED 01/ CRICKET – 17 GAMES – $11/PLAYER
URL:https://titandarts.com/event-2/summer-league-information-wednesday-events/2027-03-10/
CATEGORIES:Summer League Information
ATTACH;FMTTYPE=image/webp:https://titandarts.com/wp-content/uploads/2026/02/imgi_6_rsw_400h_533-1.webp
END:VEVENT
BEGIN:VEVENT
DTSTART;TZID=America/Denver:20270311T183000
DTEND;TZID=America/Denver:20270311T220000
DTSTAMP:20260421T090648
CREATED:20260224T114252Z
LAST-MODIFIED:20260224T152121Z
UID:10005006-1804789800-1804802400@titandarts.com
SUMMARY:Summer League Information Thursday Events
DESCRIPTION:7 CAP HANDICAP – MIXED 01/CRICKET – 15 GAMES – $10/PLAYER
URL:https://titandarts.com/event-2/summer-league-information-thursday-events/2027-03-11/
CATEGORIES:Summer League Information
ATTACH;FMTTYPE=image/webp:https://titandarts.com/wp-content/uploads/2026/02/imgi_6_rsw_400h_533-1.webp
END:VEVENT
BEGIN:VEVENT
DTSTART;TZID=America/Denver:20270315T183000
DTEND;TZID=America/Denver:20270315T235900
DTSTAMP:20260421T090648
CREATED:20260224T113456Z
LAST-MODIFIED:20260224T151926Z
UID:10005269-1805135400-1805155140@titandarts.com
SUMMARY:Summer League Information Monday Events
DESCRIPTION:UNLIMITED WOMENS HANDICAP DOUBLES – MIXED 01/CRICKET – 15 GAMES – $11/PLAYER
URL:https://titandarts.com/event-2/summer-league-information-monday-events/2027-03-15/
CATEGORIES:Summer League Information
ATTACH;FMTTYPE=image/webp:https://titandarts.com/wp-content/uploads/2026/02/imgi_6_rsw_400h_533-1.webp
END:VEVENT
BEGIN:VEVENT
DTSTART;TZID=America/Denver:20270316T183000
DTEND;TZID=America/Denver:20270316T235900
DTSTAMP:20260421T090648
CREATED:20260224T113859Z
LAST-MODIFIED:20260224T151841Z
UID:10005530-1805221800-1805241540@titandarts.com
SUMMARY:Summer League Information Tuesday Events
DESCRIPTION:21 CAP HANDICAP DOUBLES – MIXED 01/CRICKET – 19 GAMES – $15/PLAYER
URL:https://titandarts.com/event-2/summer-league-information-tuesday-events/2027-03-16/
CATEGORIES:Summer League Information
ATTACH;FMTTYPE=image/webp:https://titandarts.com/wp-content/uploads/2026/02/imgi_6_rsw_400h_533-1.webp
END:VEVENT
BEGIN:VEVENT
DTSTART;VALUE=DATE:20270317
DTEND;VALUE=DATE:20270318
DTSTAMP:20260421T090648
CREATED:20260224T114057Z
LAST-MODIFIED:20260224T152041Z
UID:10004227-1805241600-1805327999@titandarts.com
SUMMARY:Summer League Information Wednesday Events
DESCRIPTION:15 CAP HANDICAP DOUBLES – MIXED 01/ CRICKET – 17 GAMES – $11/PLAYER
URL:https://titandarts.com/event-2/summer-league-information-wednesday-events/2027-03-17/
CATEGORIES:Summer League Information
ATTACH;FMTTYPE=image/webp:https://titandarts.com/wp-content/uploads/2026/02/imgi_6_rsw_400h_533-1.webp
END:VEVENT
BEGIN:VEVENT
DTSTART;TZID=America/Denver:20270318T183000
DTEND;TZID=America/Denver:20270318T220000
DTSTAMP:20260421T090648
CREATED:20260224T114252Z
LAST-MODIFIED:20260224T152121Z
UID:10005007-1805394600-1805407200@titandarts.com
SUMMARY:Summer League Information Thursday Events
DESCRIPTION:7 CAP HANDICAP – MIXED 01/CRICKET – 15 GAMES – $10/PLAYER
URL:https://titandarts.com/event-2/summer-league-information-thursday-events/2027-03-18/
CATEGORIES:Summer League Information
ATTACH;FMTTYPE=image/webp:https://titandarts.com/wp-content/uploads/2026/02/imgi_6_rsw_400h_533-1.webp
END:VEVENT
BEGIN:VEVENT
DTSTART;TZID=America/Denver:20270322T183000
DTEND;TZID=America/Denver:20270322T235900
DTSTAMP:20260421T090648
CREATED:20260224T113456Z
LAST-MODIFIED:20260224T151926Z
UID:10005270-1805740200-1805759940@titandarts.com
SUMMARY:Summer League Information Monday Events
DESCRIPTION:UNLIMITED WOMENS HANDICAP DOUBLES – MIXED 01/CRICKET – 15 GAMES – $11/PLAYER
URL:https://titandarts.com/event-2/summer-league-information-monday-events/2027-03-22/
CATEGORIES:Summer League Information
ATTACH;FMTTYPE=image/webp:https://titandarts.com/wp-content/uploads/2026/02/imgi_6_rsw_400h_533-1.webp
END:VEVENT
BEGIN:VEVENT
DTSTART;TZID=America/Denver:20270323T183000
DTEND;TZID=America/Denver:20270323T235900
DTSTAMP:20260421T090648
CREATED:20260224T113859Z
LAST-MODIFIED:20260224T151841Z
UID:10005531-1805826600-1805846340@titandarts.com
SUMMARY:Summer League Information Tuesday Events
DESCRIPTION:21 CAP HANDICAP DOUBLES – MIXED 01/CRICKET – 19 GAMES – $15/PLAYER
URL:https://titandarts.com/event-2/summer-league-information-tuesday-events/2027-03-23/
CATEGORIES:Summer League Information
ATTACH;FMTTYPE=image/webp:https://titandarts.com/wp-content/uploads/2026/02/imgi_6_rsw_400h_533-1.webp
END:VEVENT
BEGIN:VEVENT
DTSTART;VALUE=DATE:20270324
DTEND;VALUE=DATE:20270325
DTSTAMP:20260421T090648
CREATED:20260224T114057Z
LAST-MODIFIED:20260224T152041Z
UID:10004228-1805846400-1805932799@titandarts.com
SUMMARY:Summer League Information Wednesday Events
DESCRIPTION:15 CAP HANDICAP DOUBLES – MIXED 01/ CRICKET – 17 GAMES – $11/PLAYER
URL:https://titandarts.com/event-2/summer-league-information-wednesday-events/2027-03-24/
CATEGORIES:Summer League Information
ATTACH;FMTTYPE=image/webp:https://titandarts.com/wp-content/uploads/2026/02/imgi_6_rsw_400h_533-1.webp
END:VEVENT
BEGIN:VEVENT
DTSTART;TZID=America/Denver:20270325T183000
DTEND;TZID=America/Denver:20270325T220000
DTSTAMP:20260421T090648
CREATED:20260224T114252Z
LAST-MODIFIED:20260224T152121Z
UID:10005008-1805999400-1806012000@titandarts.com
SUMMARY:Summer League Information Thursday Events
DESCRIPTION:7 CAP HANDICAP – MIXED 01/CRICKET – 15 GAMES – $10/PLAYER
URL:https://titandarts.com/event-2/summer-league-information-thursday-events/2027-03-25/
CATEGORIES:Summer League Information
ATTACH;FMTTYPE=image/webp:https://titandarts.com/wp-content/uploads/2026/02/imgi_6_rsw_400h_533-1.webp
END:VEVENT
BEGIN:VEVENT
DTSTART;TZID=America/Denver:20270329T183000
DTEND;TZID=America/Denver:20270329T235900
DTSTAMP:20260421T090648
CREATED:20260224T113456Z
LAST-MODIFIED:20260224T151926Z
UID:10005271-1806345000-1806364740@titandarts.com
SUMMARY:Summer League Information Monday Events
DESCRIPTION:UNLIMITED WOMENS HANDICAP DOUBLES – MIXED 01/CRICKET – 15 GAMES – $11/PLAYER
URL:https://titandarts.com/event-2/summer-league-information-monday-events/2027-03-29/
CATEGORIES:Summer League Information
ATTACH;FMTTYPE=image/webp:https://titandarts.com/wp-content/uploads/2026/02/imgi_6_rsw_400h_533-1.webp
END:VEVENT
BEGIN:VEVENT
DTSTART;TZID=America/Denver:20270330T183000
DTEND;TZID=America/Denver:20270330T235900
DTSTAMP:20260421T090648
CREATED:20260224T113859Z
LAST-MODIFIED:20260224T151841Z
UID:10005532-1806431400-1806451140@titandarts.com
SUMMARY:Summer League Information Tuesday Events
DESCRIPTION:21 CAP HANDICAP DOUBLES – MIXED 01/CRICKET – 19 GAMES – $15/PLAYER
URL:https://titandarts.com/event-2/summer-league-information-tuesday-events/2027-03-30/
CATEGORIES:Summer League Information
ATTACH;FMTTYPE=image/webp:https://titandarts.com/wp-content/uploads/2026/02/imgi_6_rsw_400h_533-1.webp
END:VEVENT
BEGIN:VEVENT
DTSTART;VALUE=DATE:20270331
DTEND;VALUE=DATE:20270401
DTSTAMP:20260421T090648
CREATED:20260224T114057Z
LAST-MODIFIED:20260224T152041Z
UID:10004229-1806451200-1806537599@titandarts.com
SUMMARY:Summer League Information Wednesday Events
DESCRIPTION:15 CAP HANDICAP DOUBLES – MIXED 01/ CRICKET – 17 GAMES – $11/PLAYER
URL:https://titandarts.com/event-2/summer-league-information-wednesday-events/2027-03-31/
CATEGORIES:Summer League Information
ATTACH;FMTTYPE=image/webp:https://titandarts.com/wp-content/uploads/2026/02/imgi_6_rsw_400h_533-1.webp
END:VEVENT
END:VCALENDAR