BEGIN:VCALENDAR
VERSION:2.0
PRODID:-//Titan Darts - ECPv6.15.20//NONSGML v1.0//EN
CALSCALE:GREGORIAN
METHOD:PUBLISH
X-ORIGINAL-URL:https://titandarts.com
X-WR-CALDESC:Events for Titan Darts
REFRESH-INTERVAL;VALUE=DURATION:PT1H
X-Robots-Tag:noindex
X-PUBLISHED-TTL:PT1H
BEGIN:VTIMEZONE
TZID:America/Denver
BEGIN:DAYLIGHT
TZOFFSETFROM:-0700
TZOFFSETTO:-0600
TZNAME:MDT
DTSTART:20280312T090000
END:DAYLIGHT
BEGIN:STANDARD
TZOFFSETFROM:-0600
TZOFFSETTO:-0700
TZNAME:MST
DTSTART:20281105T080000
END:STANDARD
BEGIN:DAYLIGHT
TZOFFSETFROM:-0700
TZOFFSETTO:-0600
TZNAME:MDT
DTSTART:20290311T090000
END:DAYLIGHT
BEGIN:STANDARD
TZOFFSETFROM:-0600
TZOFFSETTO:-0700
TZNAME:MST
DTSTART:20291104T080000
END:STANDARD
BEGIN:DAYLIGHT
TZOFFSETFROM:-0700
TZOFFSETTO:-0600
TZNAME:MDT
DTSTART:20300310T090000
END:DAYLIGHT
BEGIN:STANDARD
TZOFFSETFROM:-0600
TZOFFSETTO:-0700
TZNAME:MST
DTSTART:20301103T080000
END:STANDARD
END:VTIMEZONE
BEGIN:VEVENT
DTSTART;TZID=America/Denver:20290422T180000
DTEND;TZID=America/Denver:20290422T220000
DTSTAMP:20260422T160258
CREATED:20260224T082032Z
LAST-MODIFIED:20260224T112121Z
UID:10000165-1871575200-1871589600@titandarts.com
SUMMARY:Fall League Information Sunday Events
DESCRIPTION:PINK LADIES WOMEN’S LEAGUE 15 POINT CAP – HANDICAPPED – 501 OI/OO / CRICKET – 15 GAMES – $11 PER PLAYER PER WEEK *NOW WITH SINGLES* \nBB TRIOS 20 CAP – HANDICAPPED – 701OI/OO / CRICKET -17 GAMES – $10 PER PLAYER PER WEEK \nMASTER TRIOS 27 CAP – 19 GAMES – 701OI/MO / CRICKET – $15 PER PLAYER PER WEEK \n9 AND ABOVE SINGLES – 19 GAMES – 501 OI/MO / CK – $20 PER PLAYER PER WEEK $10 PER WEEK INTO THE PRIZE FUND \n8 AND UNDER SINGLES – 15 GAMES – 501 OI/OO / CK – $15 PER PLAYER PER WEEK $7.50 PER WEEK INTO THE PRIZE FUND
URL:https://titandarts.com/event-2/fall-league-information-sunday/2029-04-22/
CATEGORIES:Fall League Information
ATTACH;FMTTYPE=image/png:https://titandarts.com/wp-content/uploads/2026/02/imgi_5_rsw_400h_533.png
END:VEVENT
BEGIN:VEVENT
DTSTART;TZID=America/Denver:20290423T183000
DTEND;TZID=America/Denver:20290423T220000
DTSTAMP:20260422T160258
CREATED:20260224T112515Z
LAST-MODIFIED:20260224T112515Z
UID:10001731-1871663400-1871676000@titandarts.com
SUMMARY:Fall League Information Monday Events
DESCRIPTION:B DOUBLES 10 CAP – 501 OI/OO / CK MIX – 17 GAMES – $11 PER PLAYER PER WEEK \nMASTER DOUBLES 24 CAP – 701 OI/MO / 501 DI/DO / CK – $15 PER PLAYER PER WEEK
URL:https://titandarts.com/event-2/fall-league-information-monday-events/2029-04-23/
CATEGORIES:Fall League Information
ATTACH;FMTTYPE=image/png:https://titandarts.com/wp-content/uploads/2026/02/imgi_5_rsw_400h_533.png
END:VEVENT
BEGIN:VEVENT
DTSTART;TZID=America/Denver:20290423T183000
DTEND;TZID=America/Denver:20290423T235900
DTSTAMP:20260422T160258
CREATED:20260224T113456Z
LAST-MODIFIED:20260224T151926Z
UID:10005379-1871663400-1871683140@titandarts.com
SUMMARY:Summer League Information Monday Events
DESCRIPTION:UNLIMITED WOMENS HANDICAP DOUBLES – MIXED 01/CRICKET – 15 GAMES – $11/PLAYER
URL:https://titandarts.com/event-2/summer-league-information-monday-events/2029-04-23/
CATEGORIES:Summer League Information
ATTACH;FMTTYPE=image/webp:https://titandarts.com/wp-content/uploads/2026/02/imgi_6_rsw_400h_533-1.webp
END:VEVENT
BEGIN:VEVENT
DTSTART;TZID=America/Denver:20290424T183000
DTEND;TZID=America/Denver:20290424T220000
DTSTAMP:20260422T160258
CREATED:20260224T112553Z
LAST-MODIFIED:20260224T112553Z
UID:10001992-1871749800-1871762400@titandarts.com
SUMMARY:Fall League Information Tuesday Events
DESCRIPTION:BB DOUBLES 14 CAP – 501 OI/OO / CRICKET – 17 GAMES – $11 PER PLAYER PER WEEK \nAA DOUBLES 21 CAP – 701 OI/MO / CRICKET – 19 GAMES – $15 PER PLAYER PER WEEK
URL:https://titandarts.com/event-2/fall-league-information-tuesday-events/2029-04-24/
CATEGORIES:Fall League Information
ATTACH;FMTTYPE=image/png:https://titandarts.com/wp-content/uploads/2026/02/imgi_5_rsw_400h_533.png
END:VEVENT
BEGIN:VEVENT
DTSTART;TZID=America/Denver:20290424T183000
DTEND;TZID=America/Denver:20290424T235900
DTSTAMP:20260422T160258
CREATED:20260224T113859Z
LAST-MODIFIED:20260224T151841Z
UID:10005640-1871749800-1871769540@titandarts.com
SUMMARY:Summer League Information Tuesday Events
DESCRIPTION:21 CAP HANDICAP DOUBLES – MIXED 01/CRICKET – 19 GAMES – $15/PLAYER
URL:https://titandarts.com/event-2/summer-league-information-tuesday-events/2029-04-24/
CATEGORIES:Summer League Information
ATTACH;FMTTYPE=image/webp:https://titandarts.com/wp-content/uploads/2026/02/imgi_6_rsw_400h_533-1.webp
END:VEVENT
BEGIN:VEVENT
DTSTART;VALUE=DATE:20290425
DTEND;VALUE=DATE:20290426
DTSTAMP:20260422T160258
CREATED:20260224T114057Z
LAST-MODIFIED:20260224T152041Z
UID:10004337-1871769600-1871855999@titandarts.com
SUMMARY:Summer League Information Wednesday Events
DESCRIPTION:15 CAP HANDICAP DOUBLES – MIXED 01/ CRICKET – 17 GAMES – $11/PLAYER
URL:https://titandarts.com/event-2/summer-league-information-wednesday-events/2029-04-25/
CATEGORIES:Summer League Information
ATTACH;FMTTYPE=image/webp:https://titandarts.com/wp-content/uploads/2026/02/imgi_6_rsw_400h_533-1.webp
END:VEVENT
BEGIN:VEVENT
DTSTART;TZID=America/Denver:20290425T183000
DTEND;TZID=America/Denver:20290425T220000
DTSTAMP:20260422T160258
CREATED:20260224T112622Z
LAST-MODIFIED:20260224T114011Z
UID:10004077-1871836200-1871848800@titandarts.com
SUMMARY:Fall League Information Wednesday Events
DESCRIPTION:C DOUBLES 8 CAP – 501 OI/OO / CRICKET – 15 GAMES – $10 PER PLAYER PER WEEK \nA DOUBLES 18 CAP – 701 OI/OO / CRICKET – 19 GAMES – $13 PER PLAYER PER WEEK
URL:https://titandarts.com/event-2/fall-league-information-wednesday-events/2029-04-25/
CATEGORIES:Fall League Information
ATTACH;FMTTYPE=image/png:https://titandarts.com/wp-content/uploads/2026/02/imgi_5_rsw_400h_533.png
END:VEVENT
BEGIN:VEVENT
DTSTART;TZID=America/Denver:20290426T183000
DTEND;TZID=America/Denver:20290426T220000
DTSTAMP:20260422T160258
CREATED:20260224T112650Z
LAST-MODIFIED:20260224T114225Z
UID:10004857-1871922600-1871935200@titandarts.com
SUMMARY:Fall League Information Thursday Events
DESCRIPTION:HANDICAP DOUBLES 16 CAP MAX – 501  OI/OO / CRICKET – 17 GAMES – $11 PER PLAYER PER WEEK \nNOVICE DOUBLES 5 CAP – 501 OI/OO / CRICKET – 13 GAMES – $9 PER PLAYER PER WEEK
URL:https://titandarts.com/event-2/fall-league-information-thursday-events/2029-04-26/
CATEGORIES:Fall League Information
ATTACH;FMTTYPE=image/png:https://titandarts.com/wp-content/uploads/2026/02/imgi_5_rsw_400h_533.png
END:VEVENT
BEGIN:VEVENT
DTSTART;TZID=America/Denver:20290426T183000
DTEND;TZID=America/Denver:20290426T220000
DTSTAMP:20260422T160258
CREATED:20260224T114252Z
LAST-MODIFIED:20260224T152121Z
UID:10005117-1871922600-1871935200@titandarts.com
SUMMARY:Summer League Information Thursday Events
DESCRIPTION:7 CAP HANDICAP – MIXED 01/CRICKET – 15 GAMES – $10/PLAYER
URL:https://titandarts.com/event-2/summer-league-information-thursday-events/2029-04-26/
CATEGORIES:Summer League Information
ATTACH;FMTTYPE=image/webp:https://titandarts.com/wp-content/uploads/2026/02/imgi_6_rsw_400h_533-1.webp
END:VEVENT
BEGIN:VEVENT
DTSTART;TZID=America/Denver:20290429T180000
DTEND;TZID=America/Denver:20290429T220000
DTSTAMP:20260422T160258
CREATED:20260224T082032Z
LAST-MODIFIED:20260224T112121Z
UID:10000166-1872180000-1872194400@titandarts.com
SUMMARY:Fall League Information Sunday Events
DESCRIPTION:PINK LADIES WOMEN’S LEAGUE 15 POINT CAP – HANDICAPPED – 501 OI/OO / CRICKET – 15 GAMES – $11 PER PLAYER PER WEEK *NOW WITH SINGLES* \nBB TRIOS 20 CAP – HANDICAPPED – 701OI/OO / CRICKET -17 GAMES – $10 PER PLAYER PER WEEK \nMASTER TRIOS 27 CAP – 19 GAMES – 701OI/MO / CRICKET – $15 PER PLAYER PER WEEK \n9 AND ABOVE SINGLES – 19 GAMES – 501 OI/MO / CK – $20 PER PLAYER PER WEEK $10 PER WEEK INTO THE PRIZE FUND \n8 AND UNDER SINGLES – 15 GAMES – 501 OI/OO / CK – $15 PER PLAYER PER WEEK $7.50 PER WEEK INTO THE PRIZE FUND
URL:https://titandarts.com/event-2/fall-league-information-sunday/2029-04-29/
CATEGORIES:Fall League Information
ATTACH;FMTTYPE=image/png:https://titandarts.com/wp-content/uploads/2026/02/imgi_5_rsw_400h_533.png
END:VEVENT
BEGIN:VEVENT
DTSTART;TZID=America/Denver:20290430T183000
DTEND;TZID=America/Denver:20290430T220000
DTSTAMP:20260422T160258
CREATED:20260224T112515Z
LAST-MODIFIED:20260224T112515Z
UID:10001732-1872268200-1872280800@titandarts.com
SUMMARY:Fall League Information Monday Events
DESCRIPTION:B DOUBLES 10 CAP – 501 OI/OO / CK MIX – 17 GAMES – $11 PER PLAYER PER WEEK \nMASTER DOUBLES 24 CAP – 701 OI/MO / 501 DI/DO / CK – $15 PER PLAYER PER WEEK
URL:https://titandarts.com/event-2/fall-league-information-monday-events/2029-04-30/
CATEGORIES:Fall League Information
ATTACH;FMTTYPE=image/png:https://titandarts.com/wp-content/uploads/2026/02/imgi_5_rsw_400h_533.png
END:VEVENT
BEGIN:VEVENT
DTSTART;TZID=America/Denver:20290430T183000
DTEND;TZID=America/Denver:20290430T235900
DTSTAMP:20260422T160258
CREATED:20260224T113456Z
LAST-MODIFIED:20260224T151926Z
UID:10005380-1872268200-1872287940@titandarts.com
SUMMARY:Summer League Information Monday Events
DESCRIPTION:UNLIMITED WOMENS HANDICAP DOUBLES – MIXED 01/CRICKET – 15 GAMES – $11/PLAYER
URL:https://titandarts.com/event-2/summer-league-information-monday-events/2029-04-30/
CATEGORIES:Summer League Information
ATTACH;FMTTYPE=image/webp:https://titandarts.com/wp-content/uploads/2026/02/imgi_6_rsw_400h_533-1.webp
END:VEVENT
BEGIN:VEVENT
DTSTART;TZID=America/Denver:20290501T183000
DTEND;TZID=America/Denver:20290501T220000
DTSTAMP:20260422T160258
CREATED:20260224T112553Z
LAST-MODIFIED:20260224T112553Z
UID:10001993-1872354600-1872367200@titandarts.com
SUMMARY:Fall League Information Tuesday Events
DESCRIPTION:BB DOUBLES 14 CAP – 501 OI/OO / CRICKET – 17 GAMES – $11 PER PLAYER PER WEEK \nAA DOUBLES 21 CAP – 701 OI/MO / CRICKET – 19 GAMES – $15 PER PLAYER PER WEEK
URL:https://titandarts.com/event-2/fall-league-information-tuesday-events/2029-05-01/
CATEGORIES:Fall League Information
ATTACH;FMTTYPE=image/png:https://titandarts.com/wp-content/uploads/2026/02/imgi_5_rsw_400h_533.png
END:VEVENT
BEGIN:VEVENT
DTSTART;TZID=America/Denver:20290501T183000
DTEND;TZID=America/Denver:20290501T235900
DTSTAMP:20260422T160258
CREATED:20260224T113859Z
LAST-MODIFIED:20260224T151841Z
UID:10005641-1872354600-1872374340@titandarts.com
SUMMARY:Summer League Information Tuesday Events
DESCRIPTION:21 CAP HANDICAP DOUBLES – MIXED 01/CRICKET – 19 GAMES – $15/PLAYER
URL:https://titandarts.com/event-2/summer-league-information-tuesday-events/2029-05-01/
CATEGORIES:Summer League Information
ATTACH;FMTTYPE=image/webp:https://titandarts.com/wp-content/uploads/2026/02/imgi_6_rsw_400h_533-1.webp
END:VEVENT
BEGIN:VEVENT
DTSTART;VALUE=DATE:20290502
DTEND;VALUE=DATE:20290503
DTSTAMP:20260422T160258
CREATED:20260224T114057Z
LAST-MODIFIED:20260224T152041Z
UID:10004338-1872374400-1872460799@titandarts.com
SUMMARY:Summer League Information Wednesday Events
DESCRIPTION:15 CAP HANDICAP DOUBLES – MIXED 01/ CRICKET – 17 GAMES – $11/PLAYER
URL:https://titandarts.com/event-2/summer-league-information-wednesday-events/2029-05-02/
CATEGORIES:Summer League Information
ATTACH;FMTTYPE=image/webp:https://titandarts.com/wp-content/uploads/2026/02/imgi_6_rsw_400h_533-1.webp
END:VEVENT
BEGIN:VEVENT
DTSTART;TZID=America/Denver:20290502T183000
DTEND;TZID=America/Denver:20290502T220000
DTSTAMP:20260422T160258
CREATED:20260224T112622Z
LAST-MODIFIED:20260224T114011Z
UID:10004078-1872441000-1872453600@titandarts.com
SUMMARY:Fall League Information Wednesday Events
DESCRIPTION:C DOUBLES 8 CAP – 501 OI/OO / CRICKET – 15 GAMES – $10 PER PLAYER PER WEEK \nA DOUBLES 18 CAP – 701 OI/OO / CRICKET – 19 GAMES – $13 PER PLAYER PER WEEK
URL:https://titandarts.com/event-2/fall-league-information-wednesday-events/2029-05-02/
CATEGORIES:Fall League Information
ATTACH;FMTTYPE=image/png:https://titandarts.com/wp-content/uploads/2026/02/imgi_5_rsw_400h_533.png
END:VEVENT
BEGIN:VEVENT
DTSTART;TZID=America/Denver:20290503T183000
DTEND;TZID=America/Denver:20290503T220000
DTSTAMP:20260422T160258
CREATED:20260224T112650Z
LAST-MODIFIED:20260224T114225Z
UID:10004858-1872527400-1872540000@titandarts.com
SUMMARY:Fall League Information Thursday Events
DESCRIPTION:HANDICAP DOUBLES 16 CAP MAX – 501  OI/OO / CRICKET – 17 GAMES – $11 PER PLAYER PER WEEK \nNOVICE DOUBLES 5 CAP – 501 OI/OO / CRICKET – 13 GAMES – $9 PER PLAYER PER WEEK
URL:https://titandarts.com/event-2/fall-league-information-thursday-events/2029-05-03/
CATEGORIES:Fall League Information
ATTACH;FMTTYPE=image/png:https://titandarts.com/wp-content/uploads/2026/02/imgi_5_rsw_400h_533.png
END:VEVENT
BEGIN:VEVENT
DTSTART;TZID=America/Denver:20290503T183000
DTEND;TZID=America/Denver:20290503T220000
DTSTAMP:20260422T160258
CREATED:20260224T114252Z
LAST-MODIFIED:20260224T152121Z
UID:10005118-1872527400-1872540000@titandarts.com
SUMMARY:Summer League Information Thursday Events
DESCRIPTION:7 CAP HANDICAP – MIXED 01/CRICKET – 15 GAMES – $10/PLAYER
URL:https://titandarts.com/event-2/summer-league-information-thursday-events/2029-05-03/
CATEGORIES:Summer League Information
ATTACH;FMTTYPE=image/webp:https://titandarts.com/wp-content/uploads/2026/02/imgi_6_rsw_400h_533-1.webp
END:VEVENT
BEGIN:VEVENT
DTSTART;TZID=America/Denver:20290506T180000
DTEND;TZID=America/Denver:20290506T220000
DTSTAMP:20260422T160258
CREATED:20260224T082032Z
LAST-MODIFIED:20260224T112121Z
UID:10000167-1872784800-1872799200@titandarts.com
SUMMARY:Fall League Information Sunday Events
DESCRIPTION:PINK LADIES WOMEN’S LEAGUE 15 POINT CAP – HANDICAPPED – 501 OI/OO / CRICKET – 15 GAMES – $11 PER PLAYER PER WEEK *NOW WITH SINGLES* \nBB TRIOS 20 CAP – HANDICAPPED – 701OI/OO / CRICKET -17 GAMES – $10 PER PLAYER PER WEEK \nMASTER TRIOS 27 CAP – 19 GAMES – 701OI/MO / CRICKET – $15 PER PLAYER PER WEEK \n9 AND ABOVE SINGLES – 19 GAMES – 501 OI/MO / CK – $20 PER PLAYER PER WEEK $10 PER WEEK INTO THE PRIZE FUND \n8 AND UNDER SINGLES – 15 GAMES – 501 OI/OO / CK – $15 PER PLAYER PER WEEK $7.50 PER WEEK INTO THE PRIZE FUND
URL:https://titandarts.com/event-2/fall-league-information-sunday/2029-05-06/
CATEGORIES:Fall League Information
ATTACH;FMTTYPE=image/png:https://titandarts.com/wp-content/uploads/2026/02/imgi_5_rsw_400h_533.png
END:VEVENT
BEGIN:VEVENT
DTSTART;TZID=America/Denver:20290507T183000
DTEND;TZID=America/Denver:20290507T220000
DTSTAMP:20260422T160258
CREATED:20260224T112515Z
LAST-MODIFIED:20260224T112515Z
UID:10001733-1872873000-1872885600@titandarts.com
SUMMARY:Fall League Information Monday Events
DESCRIPTION:B DOUBLES 10 CAP – 501 OI/OO / CK MIX – 17 GAMES – $11 PER PLAYER PER WEEK \nMASTER DOUBLES 24 CAP – 701 OI/MO / 501 DI/DO / CK – $15 PER PLAYER PER WEEK
URL:https://titandarts.com/event-2/fall-league-information-monday-events/2029-05-07/
CATEGORIES:Fall League Information
ATTACH;FMTTYPE=image/png:https://titandarts.com/wp-content/uploads/2026/02/imgi_5_rsw_400h_533.png
END:VEVENT
BEGIN:VEVENT
DTSTART;TZID=America/Denver:20290507T183000
DTEND;TZID=America/Denver:20290507T235900
DTSTAMP:20260422T160258
CREATED:20260224T113456Z
LAST-MODIFIED:20260224T151926Z
UID:10005381-1872873000-1872892740@titandarts.com
SUMMARY:Summer League Information Monday Events
DESCRIPTION:UNLIMITED WOMENS HANDICAP DOUBLES – MIXED 01/CRICKET – 15 GAMES – $11/PLAYER
URL:https://titandarts.com/event-2/summer-league-information-monday-events/2029-05-07/
CATEGORIES:Summer League Information
ATTACH;FMTTYPE=image/webp:https://titandarts.com/wp-content/uploads/2026/02/imgi_6_rsw_400h_533-1.webp
END:VEVENT
BEGIN:VEVENT
DTSTART;TZID=America/Denver:20290508T183000
DTEND;TZID=America/Denver:20290508T220000
DTSTAMP:20260422T160258
CREATED:20260224T112553Z
LAST-MODIFIED:20260224T112553Z
UID:10001994-1872959400-1872972000@titandarts.com
SUMMARY:Fall League Information Tuesday Events
DESCRIPTION:BB DOUBLES 14 CAP – 501 OI/OO / CRICKET – 17 GAMES – $11 PER PLAYER PER WEEK \nAA DOUBLES 21 CAP – 701 OI/MO / CRICKET – 19 GAMES – $15 PER PLAYER PER WEEK
URL:https://titandarts.com/event-2/fall-league-information-tuesday-events/2029-05-08/
CATEGORIES:Fall League Information
ATTACH;FMTTYPE=image/png:https://titandarts.com/wp-content/uploads/2026/02/imgi_5_rsw_400h_533.png
END:VEVENT
BEGIN:VEVENT
DTSTART;TZID=America/Denver:20290508T183000
DTEND;TZID=America/Denver:20290508T235900
DTSTAMP:20260422T160258
CREATED:20260224T113859Z
LAST-MODIFIED:20260224T151841Z
UID:10005642-1872959400-1872979140@titandarts.com
SUMMARY:Summer League Information Tuesday Events
DESCRIPTION:21 CAP HANDICAP DOUBLES – MIXED 01/CRICKET – 19 GAMES – $15/PLAYER
URL:https://titandarts.com/event-2/summer-league-information-tuesday-events/2029-05-08/
CATEGORIES:Summer League Information
ATTACH;FMTTYPE=image/webp:https://titandarts.com/wp-content/uploads/2026/02/imgi_6_rsw_400h_533-1.webp
END:VEVENT
BEGIN:VEVENT
DTSTART;VALUE=DATE:20290509
DTEND;VALUE=DATE:20290510
DTSTAMP:20260422T160258
CREATED:20260224T114057Z
LAST-MODIFIED:20260224T152041Z
UID:10004339-1872979200-1873065599@titandarts.com
SUMMARY:Summer League Information Wednesday Events
DESCRIPTION:15 CAP HANDICAP DOUBLES – MIXED 01/ CRICKET – 17 GAMES – $11/PLAYER
URL:https://titandarts.com/event-2/summer-league-information-wednesday-events/2029-05-09/
CATEGORIES:Summer League Information
ATTACH;FMTTYPE=image/webp:https://titandarts.com/wp-content/uploads/2026/02/imgi_6_rsw_400h_533-1.webp
END:VEVENT
BEGIN:VEVENT
DTSTART;TZID=America/Denver:20290509T183000
DTEND;TZID=America/Denver:20290509T220000
DTSTAMP:20260422T160258
CREATED:20260224T112622Z
LAST-MODIFIED:20260224T114011Z
UID:10004079-1873045800-1873058400@titandarts.com
SUMMARY:Fall League Information Wednesday Events
DESCRIPTION:C DOUBLES 8 CAP – 501 OI/OO / CRICKET – 15 GAMES – $10 PER PLAYER PER WEEK \nA DOUBLES 18 CAP – 701 OI/OO / CRICKET – 19 GAMES – $13 PER PLAYER PER WEEK
URL:https://titandarts.com/event-2/fall-league-information-wednesday-events/2029-05-09/
CATEGORIES:Fall League Information
ATTACH;FMTTYPE=image/png:https://titandarts.com/wp-content/uploads/2026/02/imgi_5_rsw_400h_533.png
END:VEVENT
BEGIN:VEVENT
DTSTART;TZID=America/Denver:20290510T183000
DTEND;TZID=America/Denver:20290510T220000
DTSTAMP:20260422T160258
CREATED:20260224T112650Z
LAST-MODIFIED:20260224T114225Z
UID:10004859-1873132200-1873144800@titandarts.com
SUMMARY:Fall League Information Thursday Events
DESCRIPTION:HANDICAP DOUBLES 16 CAP MAX – 501  OI/OO / CRICKET – 17 GAMES – $11 PER PLAYER PER WEEK \nNOVICE DOUBLES 5 CAP – 501 OI/OO / CRICKET – 13 GAMES – $9 PER PLAYER PER WEEK
URL:https://titandarts.com/event-2/fall-league-information-thursday-events/2029-05-10/
CATEGORIES:Fall League Information
ATTACH;FMTTYPE=image/png:https://titandarts.com/wp-content/uploads/2026/02/imgi_5_rsw_400h_533.png
END:VEVENT
BEGIN:VEVENT
DTSTART;TZID=America/Denver:20290510T183000
DTEND;TZID=America/Denver:20290510T220000
DTSTAMP:20260422T160258
CREATED:20260224T114252Z
LAST-MODIFIED:20260224T152121Z
UID:10005119-1873132200-1873144800@titandarts.com
SUMMARY:Summer League Information Thursday Events
DESCRIPTION:7 CAP HANDICAP – MIXED 01/CRICKET – 15 GAMES – $10/PLAYER
URL:https://titandarts.com/event-2/summer-league-information-thursday-events/2029-05-10/
CATEGORIES:Summer League Information
ATTACH;FMTTYPE=image/webp:https://titandarts.com/wp-content/uploads/2026/02/imgi_6_rsw_400h_533-1.webp
END:VEVENT
BEGIN:VEVENT
DTSTART;TZID=America/Denver:20290513T180000
DTEND;TZID=America/Denver:20290513T220000
DTSTAMP:20260422T160258
CREATED:20260224T082032Z
LAST-MODIFIED:20260224T112121Z
UID:10000168-1873389600-1873404000@titandarts.com
SUMMARY:Fall League Information Sunday Events
DESCRIPTION:PINK LADIES WOMEN’S LEAGUE 15 POINT CAP – HANDICAPPED – 501 OI/OO / CRICKET – 15 GAMES – $11 PER PLAYER PER WEEK *NOW WITH SINGLES* \nBB TRIOS 20 CAP – HANDICAPPED – 701OI/OO / CRICKET -17 GAMES – $10 PER PLAYER PER WEEK \nMASTER TRIOS 27 CAP – 19 GAMES – 701OI/MO / CRICKET – $15 PER PLAYER PER WEEK \n9 AND ABOVE SINGLES – 19 GAMES – 501 OI/MO / CK – $20 PER PLAYER PER WEEK $10 PER WEEK INTO THE PRIZE FUND \n8 AND UNDER SINGLES – 15 GAMES – 501 OI/OO / CK – $15 PER PLAYER PER WEEK $7.50 PER WEEK INTO THE PRIZE FUND
URL:https://titandarts.com/event-2/fall-league-information-sunday/2029-05-13/
CATEGORIES:Fall League Information
ATTACH;FMTTYPE=image/png:https://titandarts.com/wp-content/uploads/2026/02/imgi_5_rsw_400h_533.png
END:VEVENT
BEGIN:VEVENT
DTSTART;TZID=America/Denver:20290514T183000
DTEND;TZID=America/Denver:20290514T220000
DTSTAMP:20260422T160258
CREATED:20260224T112515Z
LAST-MODIFIED:20260224T112515Z
UID:10001734-1873477800-1873490400@titandarts.com
SUMMARY:Fall League Information Monday Events
DESCRIPTION:B DOUBLES 10 CAP – 501 OI/OO / CK MIX – 17 GAMES – $11 PER PLAYER PER WEEK \nMASTER DOUBLES 24 CAP – 701 OI/MO / 501 DI/DO / CK – $15 PER PLAYER PER WEEK
URL:https://titandarts.com/event-2/fall-league-information-monday-events/2029-05-14/
CATEGORIES:Fall League Information
ATTACH;FMTTYPE=image/png:https://titandarts.com/wp-content/uploads/2026/02/imgi_5_rsw_400h_533.png
END:VEVENT
BEGIN:VEVENT
DTSTART;TZID=America/Denver:20290514T183000
DTEND;TZID=America/Denver:20290514T235900
DTSTAMP:20260422T160258
CREATED:20260224T113456Z
LAST-MODIFIED:20260224T151926Z
UID:10005382-1873477800-1873497540@titandarts.com
SUMMARY:Summer League Information Monday Events
DESCRIPTION:UNLIMITED WOMENS HANDICAP DOUBLES – MIXED 01/CRICKET – 15 GAMES – $11/PLAYER
URL:https://titandarts.com/event-2/summer-league-information-monday-events/2029-05-14/
CATEGORIES:Summer League Information
ATTACH;FMTTYPE=image/webp:https://titandarts.com/wp-content/uploads/2026/02/imgi_6_rsw_400h_533-1.webp
END:VEVENT
END:VCALENDAR