BEGIN:VCALENDAR
VERSION:2.0
PRODID:-//Titan Darts - ECPv6.15.20//NONSGML v1.0//EN
CALSCALE:GREGORIAN
METHOD:PUBLISH
X-ORIGINAL-URL:https://titandarts.com
X-WR-CALDESC:Events for Titan Darts
REFRESH-INTERVAL;VALUE=DURATION:PT1H
X-Robots-Tag:noindex
X-PUBLISHED-TTL:PT1H
BEGIN:VTIMEZONE
TZID:America/Denver
BEGIN:DAYLIGHT
TZOFFSETFROM:-0700
TZOFFSETTO:-0600
TZNAME:MDT
DTSTART:20290311T090000
END:DAYLIGHT
BEGIN:STANDARD
TZOFFSETFROM:-0600
TZOFFSETTO:-0700
TZNAME:MST
DTSTART:20291104T080000
END:STANDARD
BEGIN:DAYLIGHT
TZOFFSETFROM:-0700
TZOFFSETTO:-0600
TZNAME:MDT
DTSTART:20300310T090000
END:DAYLIGHT
BEGIN:STANDARD
TZOFFSETFROM:-0600
TZOFFSETTO:-0700
TZNAME:MST
DTSTART:20301103T080000
END:STANDARD
BEGIN:DAYLIGHT
TZOFFSETFROM:-0700
TZOFFSETTO:-0600
TZNAME:MDT
DTSTART:20310309T090000
END:DAYLIGHT
BEGIN:STANDARD
TZOFFSETFROM:-0600
TZOFFSETTO:-0700
TZNAME:MST
DTSTART:20311102T080000
END:STANDARD
END:VTIMEZONE
BEGIN:VEVENT
DTSTART;TZID=America/Denver:20301117T180000
DTEND;TZID=America/Denver:20301117T220000
DTSTAMP:20260424T100145
CREATED:20260224T082032Z
LAST-MODIFIED:20260224T112121Z
UID:10000247-1921168800-1921183200@titandarts.com
SUMMARY:Fall League Information Sunday Events
DESCRIPTION:PINK LADIES WOMEN’S LEAGUE 15 POINT CAP – HANDICAPPED – 501 OI/OO / CRICKET – 15 GAMES – $11 PER PLAYER PER WEEK *NOW WITH SINGLES* \nBB TRIOS 20 CAP – HANDICAPPED – 701OI/OO / CRICKET -17 GAMES – $10 PER PLAYER PER WEEK \nMASTER TRIOS 27 CAP – 19 GAMES – 701OI/MO / CRICKET – $15 PER PLAYER PER WEEK \n9 AND ABOVE SINGLES – 19 GAMES – 501 OI/MO / CK – $20 PER PLAYER PER WEEK $10 PER WEEK INTO THE PRIZE FUND \n8 AND UNDER SINGLES – 15 GAMES – 501 OI/OO / CK – $15 PER PLAYER PER WEEK $7.50 PER WEEK INTO THE PRIZE FUND
URL:https://titandarts.com/event-2/fall-league-information-sunday/2030-11-17/
CATEGORIES:Fall League Information
ATTACH;FMTTYPE=image/png:https://titandarts.com/wp-content/uploads/2026/02/imgi_5_rsw_400h_533.png
END:VEVENT
BEGIN:VEVENT
DTSTART;TZID=America/Denver:20301118T183000
DTEND;TZID=America/Denver:20301118T220000
DTSTAMP:20260424T100145
CREATED:20260224T112515Z
LAST-MODIFIED:20260224T112515Z
UID:10001813-1921257000-1921269600@titandarts.com
SUMMARY:Fall League Information Monday Events
DESCRIPTION:B DOUBLES 10 CAP – 501 OI/OO / CK MIX – 17 GAMES – $11 PER PLAYER PER WEEK \nMASTER DOUBLES 24 CAP – 701 OI/MO / 501 DI/DO / CK – $15 PER PLAYER PER WEEK
URL:https://titandarts.com/event-2/fall-league-information-monday-events/2030-11-18/
CATEGORIES:Fall League Information
ATTACH;FMTTYPE=image/png:https://titandarts.com/wp-content/uploads/2026/02/imgi_5_rsw_400h_533.png
END:VEVENT
BEGIN:VEVENT
DTSTART;TZID=America/Denver:20301118T183000
DTEND;TZID=America/Denver:20301118T235900
DTSTAMP:20260424T100145
CREATED:20260224T113456Z
LAST-MODIFIED:20260224T151926Z
UID:10005461-1921257000-1921276740@titandarts.com
SUMMARY:Summer League Information Monday Events
DESCRIPTION:UNLIMITED WOMENS HANDICAP DOUBLES – MIXED 01/CRICKET – 15 GAMES – $11/PLAYER
URL:https://titandarts.com/event-2/summer-league-information-monday-events/2030-11-18/
CATEGORIES:Summer League Information
ATTACH;FMTTYPE=image/webp:https://titandarts.com/wp-content/uploads/2026/02/imgi_6_rsw_400h_533-1.webp
END:VEVENT
BEGIN:VEVENT
DTSTART;TZID=America/Denver:20301119T183000
DTEND;TZID=America/Denver:20301119T220000
DTSTAMP:20260424T100145
CREATED:20260224T112553Z
LAST-MODIFIED:20260224T112553Z
UID:10002074-1921343400-1921356000@titandarts.com
SUMMARY:Fall League Information Tuesday Events
DESCRIPTION:BB DOUBLES 14 CAP – 501 OI/OO / CRICKET – 17 GAMES – $11 PER PLAYER PER WEEK \nAA DOUBLES 21 CAP – 701 OI/MO / CRICKET – 19 GAMES – $15 PER PLAYER PER WEEK
URL:https://titandarts.com/event-2/fall-league-information-tuesday-events/2030-11-19/
CATEGORIES:Fall League Information
ATTACH;FMTTYPE=image/png:https://titandarts.com/wp-content/uploads/2026/02/imgi_5_rsw_400h_533.png
END:VEVENT
BEGIN:VEVENT
DTSTART;TZID=America/Denver:20301119T183000
DTEND;TZID=America/Denver:20301119T235900
DTSTAMP:20260424T100145
CREATED:20260224T113859Z
LAST-MODIFIED:20260224T151841Z
UID:10005722-1921343400-1921363140@titandarts.com
SUMMARY:Summer League Information Tuesday Events
DESCRIPTION:21 CAP HANDICAP DOUBLES – MIXED 01/CRICKET – 19 GAMES – $15/PLAYER
URL:https://titandarts.com/event-2/summer-league-information-tuesday-events/2030-11-19/
CATEGORIES:Summer League Information
ATTACH;FMTTYPE=image/webp:https://titandarts.com/wp-content/uploads/2026/02/imgi_6_rsw_400h_533-1.webp
END:VEVENT
BEGIN:VEVENT
DTSTART;VALUE=DATE:20301120
DTEND;VALUE=DATE:20301121
DTSTAMP:20260424T100145
CREATED:20260224T114057Z
LAST-MODIFIED:20260224T152041Z
UID:10004419-1921363200-1921449599@titandarts.com
SUMMARY:Summer League Information Wednesday Events
DESCRIPTION:15 CAP HANDICAP DOUBLES – MIXED 01/ CRICKET – 17 GAMES – $11/PLAYER
URL:https://titandarts.com/event-2/summer-league-information-wednesday-events/2030-11-20/
CATEGORIES:Summer League Information
ATTACH;FMTTYPE=image/webp:https://titandarts.com/wp-content/uploads/2026/02/imgi_6_rsw_400h_533-1.webp
END:VEVENT
BEGIN:VEVENT
DTSTART;TZID=America/Denver:20301120T183000
DTEND;TZID=America/Denver:20301120T220000
DTSTAMP:20260424T100145
CREATED:20260224T112622Z
LAST-MODIFIED:20260224T114011Z
UID:10004159-1921429800-1921442400@titandarts.com
SUMMARY:Fall League Information Wednesday Events
DESCRIPTION:C DOUBLES 8 CAP – 501 OI/OO / CRICKET – 15 GAMES – $10 PER PLAYER PER WEEK \nA DOUBLES 18 CAP – 701 OI/OO / CRICKET – 19 GAMES – $13 PER PLAYER PER WEEK
URL:https://titandarts.com/event-2/fall-league-information-wednesday-events/2030-11-20/
CATEGORIES:Fall League Information
ATTACH;FMTTYPE=image/png:https://titandarts.com/wp-content/uploads/2026/02/imgi_5_rsw_400h_533.png
END:VEVENT
BEGIN:VEVENT
DTSTART;TZID=America/Denver:20301121T183000
DTEND;TZID=America/Denver:20301121T220000
DTSTAMP:20260424T100146
CREATED:20260224T112650Z
LAST-MODIFIED:20260224T114225Z
UID:10004939-1921516200-1921528800@titandarts.com
SUMMARY:Fall League Information Thursday Events
DESCRIPTION:HANDICAP DOUBLES 16 CAP MAX – 501  OI/OO / CRICKET – 17 GAMES – $11 PER PLAYER PER WEEK \nNOVICE DOUBLES 5 CAP – 501 OI/OO / CRICKET – 13 GAMES – $9 PER PLAYER PER WEEK
URL:https://titandarts.com/event-2/fall-league-information-thursday-events/2030-11-21/
CATEGORIES:Fall League Information
ATTACH;FMTTYPE=image/png:https://titandarts.com/wp-content/uploads/2026/02/imgi_5_rsw_400h_533.png
END:VEVENT
BEGIN:VEVENT
DTSTART;TZID=America/Denver:20301121T183000
DTEND;TZID=America/Denver:20301121T220000
DTSTAMP:20260424T100146
CREATED:20260224T114252Z
LAST-MODIFIED:20260224T152121Z
UID:10005199-1921516200-1921528800@titandarts.com
SUMMARY:Summer League Information Thursday Events
DESCRIPTION:7 CAP HANDICAP – MIXED 01/CRICKET – 15 GAMES – $10/PLAYER
URL:https://titandarts.com/event-2/summer-league-information-thursday-events/2030-11-21/
CATEGORIES:Summer League Information
ATTACH;FMTTYPE=image/webp:https://titandarts.com/wp-content/uploads/2026/02/imgi_6_rsw_400h_533-1.webp
END:VEVENT
BEGIN:VEVENT
DTSTART;TZID=America/Denver:20301124T180000
DTEND;TZID=America/Denver:20301124T220000
DTSTAMP:20260424T100146
CREATED:20260224T082032Z
LAST-MODIFIED:20260224T112121Z
UID:10000248-1921773600-1921788000@titandarts.com
SUMMARY:Fall League Information Sunday Events
DESCRIPTION:PINK LADIES WOMEN’S LEAGUE 15 POINT CAP – HANDICAPPED – 501 OI/OO / CRICKET – 15 GAMES – $11 PER PLAYER PER WEEK *NOW WITH SINGLES* \nBB TRIOS 20 CAP – HANDICAPPED – 701OI/OO / CRICKET -17 GAMES – $10 PER PLAYER PER WEEK \nMASTER TRIOS 27 CAP – 19 GAMES – 701OI/MO / CRICKET – $15 PER PLAYER PER WEEK \n9 AND ABOVE SINGLES – 19 GAMES – 501 OI/MO / CK – $20 PER PLAYER PER WEEK $10 PER WEEK INTO THE PRIZE FUND \n8 AND UNDER SINGLES – 15 GAMES – 501 OI/OO / CK – $15 PER PLAYER PER WEEK $7.50 PER WEEK INTO THE PRIZE FUND
URL:https://titandarts.com/event-2/fall-league-information-sunday/2030-11-24/
CATEGORIES:Fall League Information
ATTACH;FMTTYPE=image/png:https://titandarts.com/wp-content/uploads/2026/02/imgi_5_rsw_400h_533.png
END:VEVENT
BEGIN:VEVENT
DTSTART;TZID=America/Denver:20301125T183000
DTEND;TZID=America/Denver:20301125T220000
DTSTAMP:20260424T100146
CREATED:20260224T112515Z
LAST-MODIFIED:20260224T112515Z
UID:10001814-1921861800-1921874400@titandarts.com
SUMMARY:Fall League Information Monday Events
DESCRIPTION:B DOUBLES 10 CAP – 501 OI/OO / CK MIX – 17 GAMES – $11 PER PLAYER PER WEEK \nMASTER DOUBLES 24 CAP – 701 OI/MO / 501 DI/DO / CK – $15 PER PLAYER PER WEEK
URL:https://titandarts.com/event-2/fall-league-information-monday-events/2030-11-25/
CATEGORIES:Fall League Information
ATTACH;FMTTYPE=image/png:https://titandarts.com/wp-content/uploads/2026/02/imgi_5_rsw_400h_533.png
END:VEVENT
BEGIN:VEVENT
DTSTART;TZID=America/Denver:20301125T183000
DTEND;TZID=America/Denver:20301125T235900
DTSTAMP:20260424T100146
CREATED:20260224T113456Z
LAST-MODIFIED:20260224T151926Z
UID:10005462-1921861800-1921881540@titandarts.com
SUMMARY:Summer League Information Monday Events
DESCRIPTION:UNLIMITED WOMENS HANDICAP DOUBLES – MIXED 01/CRICKET – 15 GAMES – $11/PLAYER
URL:https://titandarts.com/event-2/summer-league-information-monday-events/2030-11-25/
CATEGORIES:Summer League Information
ATTACH;FMTTYPE=image/webp:https://titandarts.com/wp-content/uploads/2026/02/imgi_6_rsw_400h_533-1.webp
END:VEVENT
BEGIN:VEVENT
DTSTART;TZID=America/Denver:20301126T183000
DTEND;TZID=America/Denver:20301126T220000
DTSTAMP:20260424T100146
CREATED:20260224T112553Z
LAST-MODIFIED:20260224T112553Z
UID:10002075-1921948200-1921960800@titandarts.com
SUMMARY:Fall League Information Tuesday Events
DESCRIPTION:BB DOUBLES 14 CAP – 501 OI/OO / CRICKET – 17 GAMES – $11 PER PLAYER PER WEEK \nAA DOUBLES 21 CAP – 701 OI/MO / CRICKET – 19 GAMES – $15 PER PLAYER PER WEEK
URL:https://titandarts.com/event-2/fall-league-information-tuesday-events/2030-11-26/
CATEGORIES:Fall League Information
ATTACH;FMTTYPE=image/png:https://titandarts.com/wp-content/uploads/2026/02/imgi_5_rsw_400h_533.png
END:VEVENT
BEGIN:VEVENT
DTSTART;TZID=America/Denver:20301126T183000
DTEND;TZID=America/Denver:20301126T235900
DTSTAMP:20260424T100146
CREATED:20260224T113859Z
LAST-MODIFIED:20260224T151841Z
UID:10005723-1921948200-1921967940@titandarts.com
SUMMARY:Summer League Information Tuesday Events
DESCRIPTION:21 CAP HANDICAP DOUBLES – MIXED 01/CRICKET – 19 GAMES – $15/PLAYER
URL:https://titandarts.com/event-2/summer-league-information-tuesday-events/2030-11-26/
CATEGORIES:Summer League Information
ATTACH;FMTTYPE=image/webp:https://titandarts.com/wp-content/uploads/2026/02/imgi_6_rsw_400h_533-1.webp
END:VEVENT
BEGIN:VEVENT
DTSTART;VALUE=DATE:20301127
DTEND;VALUE=DATE:20301128
DTSTAMP:20260424T100146
CREATED:20260224T114057Z
LAST-MODIFIED:20260224T152041Z
UID:10004420-1921968000-1922054399@titandarts.com
SUMMARY:Summer League Information Wednesday Events
DESCRIPTION:15 CAP HANDICAP DOUBLES – MIXED 01/ CRICKET – 17 GAMES – $11/PLAYER
URL:https://titandarts.com/event-2/summer-league-information-wednesday-events/2030-11-27/
CATEGORIES:Summer League Information
ATTACH;FMTTYPE=image/webp:https://titandarts.com/wp-content/uploads/2026/02/imgi_6_rsw_400h_533-1.webp
END:VEVENT
BEGIN:VEVENT
DTSTART;TZID=America/Denver:20301127T183000
DTEND;TZID=America/Denver:20301127T220000
DTSTAMP:20260424T100146
CREATED:20260224T112622Z
LAST-MODIFIED:20260224T114011Z
UID:10004160-1922034600-1922047200@titandarts.com
SUMMARY:Fall League Information Wednesday Events
DESCRIPTION:C DOUBLES 8 CAP – 501 OI/OO / CRICKET – 15 GAMES – $10 PER PLAYER PER WEEK \nA DOUBLES 18 CAP – 701 OI/OO / CRICKET – 19 GAMES – $13 PER PLAYER PER WEEK
URL:https://titandarts.com/event-2/fall-league-information-wednesday-events/2030-11-27/
CATEGORIES:Fall League Information
ATTACH;FMTTYPE=image/png:https://titandarts.com/wp-content/uploads/2026/02/imgi_5_rsw_400h_533.png
END:VEVENT
BEGIN:VEVENT
DTSTART;TZID=America/Denver:20301128T183000
DTEND;TZID=America/Denver:20301128T220000
DTSTAMP:20260424T100146
CREATED:20260224T112650Z
LAST-MODIFIED:20260224T114225Z
UID:10004940-1922121000-1922133600@titandarts.com
SUMMARY:Fall League Information Thursday Events
DESCRIPTION:HANDICAP DOUBLES 16 CAP MAX – 501  OI/OO / CRICKET – 17 GAMES – $11 PER PLAYER PER WEEK \nNOVICE DOUBLES 5 CAP – 501 OI/OO / CRICKET – 13 GAMES – $9 PER PLAYER PER WEEK
URL:https://titandarts.com/event-2/fall-league-information-thursday-events/2030-11-28/
CATEGORIES:Fall League Information
ATTACH;FMTTYPE=image/png:https://titandarts.com/wp-content/uploads/2026/02/imgi_5_rsw_400h_533.png
END:VEVENT
BEGIN:VEVENT
DTSTART;TZID=America/Denver:20301128T183000
DTEND;TZID=America/Denver:20301128T220000
DTSTAMP:20260424T100146
CREATED:20260224T114252Z
LAST-MODIFIED:20260224T152121Z
UID:10005200-1922121000-1922133600@titandarts.com
SUMMARY:Summer League Information Thursday Events
DESCRIPTION:7 CAP HANDICAP – MIXED 01/CRICKET – 15 GAMES – $10/PLAYER
URL:https://titandarts.com/event-2/summer-league-information-thursday-events/2030-11-28/
CATEGORIES:Summer League Information
ATTACH;FMTTYPE=image/webp:https://titandarts.com/wp-content/uploads/2026/02/imgi_6_rsw_400h_533-1.webp
END:VEVENT
BEGIN:VEVENT
DTSTART;TZID=America/Denver:20301201T180000
DTEND;TZID=America/Denver:20301201T220000
DTSTAMP:20260424T100146
CREATED:20260224T082032Z
LAST-MODIFIED:20260224T112121Z
UID:10000249-1922378400-1922392800@titandarts.com
SUMMARY:Fall League Information Sunday Events
DESCRIPTION:PINK LADIES WOMEN’S LEAGUE 15 POINT CAP – HANDICAPPED – 501 OI/OO / CRICKET – 15 GAMES – $11 PER PLAYER PER WEEK *NOW WITH SINGLES* \nBB TRIOS 20 CAP – HANDICAPPED – 701OI/OO / CRICKET -17 GAMES – $10 PER PLAYER PER WEEK \nMASTER TRIOS 27 CAP – 19 GAMES – 701OI/MO / CRICKET – $15 PER PLAYER PER WEEK \n9 AND ABOVE SINGLES – 19 GAMES – 501 OI/MO / CK – $20 PER PLAYER PER WEEK $10 PER WEEK INTO THE PRIZE FUND \n8 AND UNDER SINGLES – 15 GAMES – 501 OI/OO / CK – $15 PER PLAYER PER WEEK $7.50 PER WEEK INTO THE PRIZE FUND
URL:https://titandarts.com/event-2/fall-league-information-sunday/2030-12-01/
CATEGORIES:Fall League Information
ATTACH;FMTTYPE=image/png:https://titandarts.com/wp-content/uploads/2026/02/imgi_5_rsw_400h_533.png
END:VEVENT
BEGIN:VEVENT
DTSTART;TZID=America/Denver:20301202T183000
DTEND;TZID=America/Denver:20301202T220000
DTSTAMP:20260424T100146
CREATED:20260224T112515Z
LAST-MODIFIED:20260224T112515Z
UID:10001815-1922466600-1922479200@titandarts.com
SUMMARY:Fall League Information Monday Events
DESCRIPTION:B DOUBLES 10 CAP – 501 OI/OO / CK MIX – 17 GAMES – $11 PER PLAYER PER WEEK \nMASTER DOUBLES 24 CAP – 701 OI/MO / 501 DI/DO / CK – $15 PER PLAYER PER WEEK
URL:https://titandarts.com/event-2/fall-league-information-monday-events/2030-12-02/
CATEGORIES:Fall League Information
ATTACH;FMTTYPE=image/png:https://titandarts.com/wp-content/uploads/2026/02/imgi_5_rsw_400h_533.png
END:VEVENT
BEGIN:VEVENT
DTSTART;TZID=America/Denver:20301202T183000
DTEND;TZID=America/Denver:20301202T235900
DTSTAMP:20260424T100146
CREATED:20260224T113456Z
LAST-MODIFIED:20260224T151926Z
UID:10005463-1922466600-1922486340@titandarts.com
SUMMARY:Summer League Information Monday Events
DESCRIPTION:UNLIMITED WOMENS HANDICAP DOUBLES – MIXED 01/CRICKET – 15 GAMES – $11/PLAYER
URL:https://titandarts.com/event-2/summer-league-information-monday-events/2030-12-02/
CATEGORIES:Summer League Information
ATTACH;FMTTYPE=image/webp:https://titandarts.com/wp-content/uploads/2026/02/imgi_6_rsw_400h_533-1.webp
END:VEVENT
BEGIN:VEVENT
DTSTART;TZID=America/Denver:20301203T183000
DTEND;TZID=America/Denver:20301203T220000
DTSTAMP:20260424T100146
CREATED:20260224T112553Z
LAST-MODIFIED:20260224T112553Z
UID:10002076-1922553000-1922565600@titandarts.com
SUMMARY:Fall League Information Tuesday Events
DESCRIPTION:BB DOUBLES 14 CAP – 501 OI/OO / CRICKET – 17 GAMES – $11 PER PLAYER PER WEEK \nAA DOUBLES 21 CAP – 701 OI/MO / CRICKET – 19 GAMES – $15 PER PLAYER PER WEEK
URL:https://titandarts.com/event-2/fall-league-information-tuesday-events/2030-12-03/
CATEGORIES:Fall League Information
ATTACH;FMTTYPE=image/png:https://titandarts.com/wp-content/uploads/2026/02/imgi_5_rsw_400h_533.png
END:VEVENT
BEGIN:VEVENT
DTSTART;TZID=America/Denver:20301203T183000
DTEND;TZID=America/Denver:20301203T235900
DTSTAMP:20260424T100146
CREATED:20260224T113859Z
LAST-MODIFIED:20260224T151841Z
UID:10005724-1922553000-1922572740@titandarts.com
SUMMARY:Summer League Information Tuesday Events
DESCRIPTION:21 CAP HANDICAP DOUBLES – MIXED 01/CRICKET – 19 GAMES – $15/PLAYER
URL:https://titandarts.com/event-2/summer-league-information-tuesday-events/2030-12-03/
CATEGORIES:Summer League Information
ATTACH;FMTTYPE=image/webp:https://titandarts.com/wp-content/uploads/2026/02/imgi_6_rsw_400h_533-1.webp
END:VEVENT
BEGIN:VEVENT
DTSTART;VALUE=DATE:20301204
DTEND;VALUE=DATE:20301205
DTSTAMP:20260424T100146
CREATED:20260224T114057Z
LAST-MODIFIED:20260224T152041Z
UID:10004421-1922572800-1922659199@titandarts.com
SUMMARY:Summer League Information Wednesday Events
DESCRIPTION:15 CAP HANDICAP DOUBLES – MIXED 01/ CRICKET – 17 GAMES – $11/PLAYER
URL:https://titandarts.com/event-2/summer-league-information-wednesday-events/2030-12-04/
CATEGORIES:Summer League Information
ATTACH;FMTTYPE=image/webp:https://titandarts.com/wp-content/uploads/2026/02/imgi_6_rsw_400h_533-1.webp
END:VEVENT
BEGIN:VEVENT
DTSTART;TZID=America/Denver:20301204T183000
DTEND;TZID=America/Denver:20301204T220000
DTSTAMP:20260424T100146
CREATED:20260224T112622Z
LAST-MODIFIED:20260224T114011Z
UID:10004161-1922639400-1922652000@titandarts.com
SUMMARY:Fall League Information Wednesday Events
DESCRIPTION:C DOUBLES 8 CAP – 501 OI/OO / CRICKET – 15 GAMES – $10 PER PLAYER PER WEEK \nA DOUBLES 18 CAP – 701 OI/OO / CRICKET – 19 GAMES – $13 PER PLAYER PER WEEK
URL:https://titandarts.com/event-2/fall-league-information-wednesday-events/2030-12-04/
CATEGORIES:Fall League Information
ATTACH;FMTTYPE=image/png:https://titandarts.com/wp-content/uploads/2026/02/imgi_5_rsw_400h_533.png
END:VEVENT
BEGIN:VEVENT
DTSTART;TZID=America/Denver:20301205T183000
DTEND;TZID=America/Denver:20301205T220000
DTSTAMP:20260424T100146
CREATED:20260224T112650Z
LAST-MODIFIED:20260224T114225Z
UID:10004941-1922725800-1922738400@titandarts.com
SUMMARY:Fall League Information Thursday Events
DESCRIPTION:HANDICAP DOUBLES 16 CAP MAX – 501  OI/OO / CRICKET – 17 GAMES – $11 PER PLAYER PER WEEK \nNOVICE DOUBLES 5 CAP – 501 OI/OO / CRICKET – 13 GAMES – $9 PER PLAYER PER WEEK
URL:https://titandarts.com/event-2/fall-league-information-thursday-events/2030-12-05/
CATEGORIES:Fall League Information
ATTACH;FMTTYPE=image/png:https://titandarts.com/wp-content/uploads/2026/02/imgi_5_rsw_400h_533.png
END:VEVENT
BEGIN:VEVENT
DTSTART;TZID=America/Denver:20301205T183000
DTEND;TZID=America/Denver:20301205T220000
DTSTAMP:20260424T100146
CREATED:20260224T114252Z
LAST-MODIFIED:20260224T152121Z
UID:10005201-1922725800-1922738400@titandarts.com
SUMMARY:Summer League Information Thursday Events
DESCRIPTION:7 CAP HANDICAP – MIXED 01/CRICKET – 15 GAMES – $10/PLAYER
URL:https://titandarts.com/event-2/summer-league-information-thursday-events/2030-12-05/
CATEGORIES:Summer League Information
ATTACH;FMTTYPE=image/webp:https://titandarts.com/wp-content/uploads/2026/02/imgi_6_rsw_400h_533-1.webp
END:VEVENT
BEGIN:VEVENT
DTSTART;TZID=America/Denver:20301208T180000
DTEND;TZID=America/Denver:20301208T220000
DTSTAMP:20260424T100146
CREATED:20260224T082032Z
LAST-MODIFIED:20260224T112121Z
UID:10000250-1922983200-1922997600@titandarts.com
SUMMARY:Fall League Information Sunday Events
DESCRIPTION:PINK LADIES WOMEN’S LEAGUE 15 POINT CAP – HANDICAPPED – 501 OI/OO / CRICKET – 15 GAMES – $11 PER PLAYER PER WEEK *NOW WITH SINGLES* \nBB TRIOS 20 CAP – HANDICAPPED – 701OI/OO / CRICKET -17 GAMES – $10 PER PLAYER PER WEEK \nMASTER TRIOS 27 CAP – 19 GAMES – 701OI/MO / CRICKET – $15 PER PLAYER PER WEEK \n9 AND ABOVE SINGLES – 19 GAMES – 501 OI/MO / CK – $20 PER PLAYER PER WEEK $10 PER WEEK INTO THE PRIZE FUND \n8 AND UNDER SINGLES – 15 GAMES – 501 OI/OO / CK – $15 PER PLAYER PER WEEK $7.50 PER WEEK INTO THE PRIZE FUND
URL:https://titandarts.com/event-2/fall-league-information-sunday/2030-12-08/
CATEGORIES:Fall League Information
ATTACH;FMTTYPE=image/png:https://titandarts.com/wp-content/uploads/2026/02/imgi_5_rsw_400h_533.png
END:VEVENT
BEGIN:VEVENT
DTSTART;TZID=America/Denver:20301209T183000
DTEND;TZID=America/Denver:20301209T220000
DTSTAMP:20260424T100146
CREATED:20260224T112515Z
LAST-MODIFIED:20260224T112515Z
UID:10001816-1923071400-1923084000@titandarts.com
SUMMARY:Fall League Information Monday Events
DESCRIPTION:B DOUBLES 10 CAP – 501 OI/OO / CK MIX – 17 GAMES – $11 PER PLAYER PER WEEK \nMASTER DOUBLES 24 CAP – 701 OI/MO / 501 DI/DO / CK – $15 PER PLAYER PER WEEK
URL:https://titandarts.com/event-2/fall-league-information-monday-events/2030-12-09/
CATEGORIES:Fall League Information
ATTACH;FMTTYPE=image/png:https://titandarts.com/wp-content/uploads/2026/02/imgi_5_rsw_400h_533.png
END:VEVENT
BEGIN:VEVENT
DTSTART;TZID=America/Denver:20301209T183000
DTEND;TZID=America/Denver:20301209T235900
DTSTAMP:20260424T100146
CREATED:20260224T113456Z
LAST-MODIFIED:20260224T151926Z
UID:10005464-1923071400-1923091140@titandarts.com
SUMMARY:Summer League Information Monday Events
DESCRIPTION:UNLIMITED WOMENS HANDICAP DOUBLES – MIXED 01/CRICKET – 15 GAMES – $11/PLAYER
URL:https://titandarts.com/event-2/summer-league-information-monday-events/2030-12-09/
CATEGORIES:Summer League Information
ATTACH;FMTTYPE=image/webp:https://titandarts.com/wp-content/uploads/2026/02/imgi_6_rsw_400h_533-1.webp
END:VEVENT
END:VCALENDAR