BEGIN:VCALENDAR
VERSION:2.0
PRODID:-//Titan Darts - ECPv6.15.20//NONSGML v1.0//EN
CALSCALE:GREGORIAN
METHOD:PUBLISH
X-ORIGINAL-URL:https://titandarts.com
X-WR-CALDESC:Events for Titan Darts
REFRESH-INTERVAL;VALUE=DURATION:PT1H
X-Robots-Tag:noindex
X-PUBLISHED-TTL:PT1H
BEGIN:VTIMEZONE
TZID:America/Denver
BEGIN:DAYLIGHT
TZOFFSETFROM:-0700
TZOFFSETTO:-0600
TZNAME:MDT
DTSTART:20280312T090000
END:DAYLIGHT
BEGIN:STANDARD
TZOFFSETFROM:-0600
TZOFFSETTO:-0700
TZNAME:MST
DTSTART:20281105T080000
END:STANDARD
BEGIN:DAYLIGHT
TZOFFSETFROM:-0700
TZOFFSETTO:-0600
TZNAME:MDT
DTSTART:20290311T090000
END:DAYLIGHT
BEGIN:STANDARD
TZOFFSETFROM:-0600
TZOFFSETTO:-0700
TZNAME:MST
DTSTART:20291104T080000
END:STANDARD
BEGIN:DAYLIGHT
TZOFFSETFROM:-0700
TZOFFSETTO:-0600
TZNAME:MDT
DTSTART:20300310T090000
END:DAYLIGHT
BEGIN:STANDARD
TZOFFSETFROM:-0600
TZOFFSETTO:-0700
TZNAME:MST
DTSTART:20301103T080000
END:STANDARD
END:VTIMEZONE
BEGIN:VEVENT
DTSTART;TZID=America/Denver:20291119T183000
DTEND;TZID=America/Denver:20291119T220000
DTSTAMP:20260423T143332
CREATED:20260224T112515Z
LAST-MODIFIED:20260224T112515Z
UID:10001761-1889807400-1889820000@titandarts.com
SUMMARY:Fall League Information Monday Events
DESCRIPTION:B DOUBLES 10 CAP – 501 OI/OO / CK MIX – 17 GAMES – $11 PER PLAYER PER WEEK \nMASTER DOUBLES 24 CAP – 701 OI/MO / 501 DI/DO / CK – $15 PER PLAYER PER WEEK
URL:https://titandarts.com/event-2/fall-league-information-monday-events/2029-11-19/
CATEGORIES:Fall League Information
ATTACH;FMTTYPE=image/png:https://titandarts.com/wp-content/uploads/2026/02/imgi_5_rsw_400h_533.png
END:VEVENT
BEGIN:VEVENT
DTSTART;TZID=America/Denver:20291119T183000
DTEND;TZID=America/Denver:20291119T235900
DTSTAMP:20260423T143332
CREATED:20260224T113456Z
LAST-MODIFIED:20260224T151926Z
UID:10005409-1889807400-1889827140@titandarts.com
SUMMARY:Summer League Information Monday Events
DESCRIPTION:UNLIMITED WOMENS HANDICAP DOUBLES – MIXED 01/CRICKET – 15 GAMES – $11/PLAYER
URL:https://titandarts.com/event-2/summer-league-information-monday-events/2029-11-19/
CATEGORIES:Summer League Information
ATTACH;FMTTYPE=image/webp:https://titandarts.com/wp-content/uploads/2026/02/imgi_6_rsw_400h_533-1.webp
END:VEVENT
BEGIN:VEVENT
DTSTART;TZID=America/Denver:20291120T183000
DTEND;TZID=America/Denver:20291120T220000
DTSTAMP:20260423T143332
CREATED:20260224T112553Z
LAST-MODIFIED:20260224T112553Z
UID:10002022-1889893800-1889906400@titandarts.com
SUMMARY:Fall League Information Tuesday Events
DESCRIPTION:BB DOUBLES 14 CAP – 501 OI/OO / CRICKET – 17 GAMES – $11 PER PLAYER PER WEEK \nAA DOUBLES 21 CAP – 701 OI/MO / CRICKET – 19 GAMES – $15 PER PLAYER PER WEEK
URL:https://titandarts.com/event-2/fall-league-information-tuesday-events/2029-11-20/
CATEGORIES:Fall League Information
ATTACH;FMTTYPE=image/png:https://titandarts.com/wp-content/uploads/2026/02/imgi_5_rsw_400h_533.png
END:VEVENT
BEGIN:VEVENT
DTSTART;TZID=America/Denver:20291120T183000
DTEND;TZID=America/Denver:20291120T235900
DTSTAMP:20260423T143332
CREATED:20260224T113859Z
LAST-MODIFIED:20260224T151841Z
UID:10005670-1889893800-1889913540@titandarts.com
SUMMARY:Summer League Information Tuesday Events
DESCRIPTION:21 CAP HANDICAP DOUBLES – MIXED 01/CRICKET – 19 GAMES – $15/PLAYER
URL:https://titandarts.com/event-2/summer-league-information-tuesday-events/2029-11-20/
CATEGORIES:Summer League Information
ATTACH;FMTTYPE=image/webp:https://titandarts.com/wp-content/uploads/2026/02/imgi_6_rsw_400h_533-1.webp
END:VEVENT
BEGIN:VEVENT
DTSTART;VALUE=DATE:20291121
DTEND;VALUE=DATE:20291122
DTSTAMP:20260423T143332
CREATED:20260224T114057Z
LAST-MODIFIED:20260224T152041Z
UID:10004367-1889913600-1889999999@titandarts.com
SUMMARY:Summer League Information Wednesday Events
DESCRIPTION:15 CAP HANDICAP DOUBLES – MIXED 01/ CRICKET – 17 GAMES – $11/PLAYER
URL:https://titandarts.com/event-2/summer-league-information-wednesday-events/2029-11-21/
CATEGORIES:Summer League Information
ATTACH;FMTTYPE=image/webp:https://titandarts.com/wp-content/uploads/2026/02/imgi_6_rsw_400h_533-1.webp
END:VEVENT
BEGIN:VEVENT
DTSTART;TZID=America/Denver:20291121T183000
DTEND;TZID=America/Denver:20291121T220000
DTSTAMP:20260423T143332
CREATED:20260224T112622Z
LAST-MODIFIED:20260224T114011Z
UID:10004107-1889980200-1889992800@titandarts.com
SUMMARY:Fall League Information Wednesday Events
DESCRIPTION:C DOUBLES 8 CAP – 501 OI/OO / CRICKET – 15 GAMES – $10 PER PLAYER PER WEEK \nA DOUBLES 18 CAP – 701 OI/OO / CRICKET – 19 GAMES – $13 PER PLAYER PER WEEK
URL:https://titandarts.com/event-2/fall-league-information-wednesday-events/2029-11-21/
CATEGORIES:Fall League Information
ATTACH;FMTTYPE=image/png:https://titandarts.com/wp-content/uploads/2026/02/imgi_5_rsw_400h_533.png
END:VEVENT
BEGIN:VEVENT
DTSTART;TZID=America/Denver:20291122T183000
DTEND;TZID=America/Denver:20291122T220000
DTSTAMP:20260423T143332
CREATED:20260224T112650Z
LAST-MODIFIED:20260224T114225Z
UID:10004887-1890066600-1890079200@titandarts.com
SUMMARY:Fall League Information Thursday Events
DESCRIPTION:HANDICAP DOUBLES 16 CAP MAX – 501  OI/OO / CRICKET – 17 GAMES – $11 PER PLAYER PER WEEK \nNOVICE DOUBLES 5 CAP – 501 OI/OO / CRICKET – 13 GAMES – $9 PER PLAYER PER WEEK
URL:https://titandarts.com/event-2/fall-league-information-thursday-events/2029-11-22/
CATEGORIES:Fall League Information
ATTACH;FMTTYPE=image/png:https://titandarts.com/wp-content/uploads/2026/02/imgi_5_rsw_400h_533.png
END:VEVENT
BEGIN:VEVENT
DTSTART;TZID=America/Denver:20291122T183000
DTEND;TZID=America/Denver:20291122T220000
DTSTAMP:20260423T143332
CREATED:20260224T114252Z
LAST-MODIFIED:20260224T152121Z
UID:10005147-1890066600-1890079200@titandarts.com
SUMMARY:Summer League Information Thursday Events
DESCRIPTION:7 CAP HANDICAP – MIXED 01/CRICKET – 15 GAMES – $10/PLAYER
URL:https://titandarts.com/event-2/summer-league-information-thursday-events/2029-11-22/
CATEGORIES:Summer League Information
ATTACH;FMTTYPE=image/webp:https://titandarts.com/wp-content/uploads/2026/02/imgi_6_rsw_400h_533-1.webp
END:VEVENT
BEGIN:VEVENT
DTSTART;TZID=America/Denver:20291125T180000
DTEND;TZID=America/Denver:20291125T220000
DTSTAMP:20260423T143332
CREATED:20260224T082032Z
LAST-MODIFIED:20260224T112121Z
UID:10000196-1890324000-1890338400@titandarts.com
SUMMARY:Fall League Information Sunday Events
DESCRIPTION:PINK LADIES WOMEN’S LEAGUE 15 POINT CAP – HANDICAPPED – 501 OI/OO / CRICKET – 15 GAMES – $11 PER PLAYER PER WEEK *NOW WITH SINGLES* \nBB TRIOS 20 CAP – HANDICAPPED – 701OI/OO / CRICKET -17 GAMES – $10 PER PLAYER PER WEEK \nMASTER TRIOS 27 CAP – 19 GAMES – 701OI/MO / CRICKET – $15 PER PLAYER PER WEEK \n9 AND ABOVE SINGLES – 19 GAMES – 501 OI/MO / CK – $20 PER PLAYER PER WEEK $10 PER WEEK INTO THE PRIZE FUND \n8 AND UNDER SINGLES – 15 GAMES – 501 OI/OO / CK – $15 PER PLAYER PER WEEK $7.50 PER WEEK INTO THE PRIZE FUND
URL:https://titandarts.com/event-2/fall-league-information-sunday/2029-11-25/
CATEGORIES:Fall League Information
ATTACH;FMTTYPE=image/png:https://titandarts.com/wp-content/uploads/2026/02/imgi_5_rsw_400h_533.png
END:VEVENT
BEGIN:VEVENT
DTSTART;TZID=America/Denver:20291126T183000
DTEND;TZID=America/Denver:20291126T220000
DTSTAMP:20260423T143332
CREATED:20260224T112515Z
LAST-MODIFIED:20260224T112515Z
UID:10001762-1890412200-1890424800@titandarts.com
SUMMARY:Fall League Information Monday Events
DESCRIPTION:B DOUBLES 10 CAP – 501 OI/OO / CK MIX – 17 GAMES – $11 PER PLAYER PER WEEK \nMASTER DOUBLES 24 CAP – 701 OI/MO / 501 DI/DO / CK – $15 PER PLAYER PER WEEK
URL:https://titandarts.com/event-2/fall-league-information-monday-events/2029-11-26/
CATEGORIES:Fall League Information
ATTACH;FMTTYPE=image/png:https://titandarts.com/wp-content/uploads/2026/02/imgi_5_rsw_400h_533.png
END:VEVENT
BEGIN:VEVENT
DTSTART;TZID=America/Denver:20291126T183000
DTEND;TZID=America/Denver:20291126T235900
DTSTAMP:20260423T143332
CREATED:20260224T113456Z
LAST-MODIFIED:20260224T151926Z
UID:10005410-1890412200-1890431940@titandarts.com
SUMMARY:Summer League Information Monday Events
DESCRIPTION:UNLIMITED WOMENS HANDICAP DOUBLES – MIXED 01/CRICKET – 15 GAMES – $11/PLAYER
URL:https://titandarts.com/event-2/summer-league-information-monday-events/2029-11-26/
CATEGORIES:Summer League Information
ATTACH;FMTTYPE=image/webp:https://titandarts.com/wp-content/uploads/2026/02/imgi_6_rsw_400h_533-1.webp
END:VEVENT
BEGIN:VEVENT
DTSTART;TZID=America/Denver:20291127T183000
DTEND;TZID=America/Denver:20291127T220000
DTSTAMP:20260423T143332
CREATED:20260224T112553Z
LAST-MODIFIED:20260224T112553Z
UID:10002023-1890498600-1890511200@titandarts.com
SUMMARY:Fall League Information Tuesday Events
DESCRIPTION:BB DOUBLES 14 CAP – 501 OI/OO / CRICKET – 17 GAMES – $11 PER PLAYER PER WEEK \nAA DOUBLES 21 CAP – 701 OI/MO / CRICKET – 19 GAMES – $15 PER PLAYER PER WEEK
URL:https://titandarts.com/event-2/fall-league-information-tuesday-events/2029-11-27/
CATEGORIES:Fall League Information
ATTACH;FMTTYPE=image/png:https://titandarts.com/wp-content/uploads/2026/02/imgi_5_rsw_400h_533.png
END:VEVENT
BEGIN:VEVENT
DTSTART;TZID=America/Denver:20291127T183000
DTEND;TZID=America/Denver:20291127T235900
DTSTAMP:20260423T143332
CREATED:20260224T113859Z
LAST-MODIFIED:20260224T151841Z
UID:10005671-1890498600-1890518340@titandarts.com
SUMMARY:Summer League Information Tuesday Events
DESCRIPTION:21 CAP HANDICAP DOUBLES – MIXED 01/CRICKET – 19 GAMES – $15/PLAYER
URL:https://titandarts.com/event-2/summer-league-information-tuesday-events/2029-11-27/
CATEGORIES:Summer League Information
ATTACH;FMTTYPE=image/webp:https://titandarts.com/wp-content/uploads/2026/02/imgi_6_rsw_400h_533-1.webp
END:VEVENT
BEGIN:VEVENT
DTSTART;VALUE=DATE:20291128
DTEND;VALUE=DATE:20291129
DTSTAMP:20260423T143332
CREATED:20260224T114057Z
LAST-MODIFIED:20260224T152041Z
UID:10004368-1890518400-1890604799@titandarts.com
SUMMARY:Summer League Information Wednesday Events
DESCRIPTION:15 CAP HANDICAP DOUBLES – MIXED 01/ CRICKET – 17 GAMES – $11/PLAYER
URL:https://titandarts.com/event-2/summer-league-information-wednesday-events/2029-11-28/
CATEGORIES:Summer League Information
ATTACH;FMTTYPE=image/webp:https://titandarts.com/wp-content/uploads/2026/02/imgi_6_rsw_400h_533-1.webp
END:VEVENT
BEGIN:VEVENT
DTSTART;TZID=America/Denver:20291128T183000
DTEND;TZID=America/Denver:20291128T220000
DTSTAMP:20260423T143332
CREATED:20260224T112622Z
LAST-MODIFIED:20260224T114011Z
UID:10004108-1890585000-1890597600@titandarts.com
SUMMARY:Fall League Information Wednesday Events
DESCRIPTION:C DOUBLES 8 CAP – 501 OI/OO / CRICKET – 15 GAMES – $10 PER PLAYER PER WEEK \nA DOUBLES 18 CAP – 701 OI/OO / CRICKET – 19 GAMES – $13 PER PLAYER PER WEEK
URL:https://titandarts.com/event-2/fall-league-information-wednesday-events/2029-11-28/
CATEGORIES:Fall League Information
ATTACH;FMTTYPE=image/png:https://titandarts.com/wp-content/uploads/2026/02/imgi_5_rsw_400h_533.png
END:VEVENT
BEGIN:VEVENT
DTSTART;TZID=America/Denver:20291129T183000
DTEND;TZID=America/Denver:20291129T220000
DTSTAMP:20260423T143332
CREATED:20260224T112650Z
LAST-MODIFIED:20260224T114225Z
UID:10004888-1890671400-1890684000@titandarts.com
SUMMARY:Fall League Information Thursday Events
DESCRIPTION:HANDICAP DOUBLES 16 CAP MAX – 501  OI/OO / CRICKET – 17 GAMES – $11 PER PLAYER PER WEEK \nNOVICE DOUBLES 5 CAP – 501 OI/OO / CRICKET – 13 GAMES – $9 PER PLAYER PER WEEK
URL:https://titandarts.com/event-2/fall-league-information-thursday-events/2029-11-29/
CATEGORIES:Fall League Information
ATTACH;FMTTYPE=image/png:https://titandarts.com/wp-content/uploads/2026/02/imgi_5_rsw_400h_533.png
END:VEVENT
BEGIN:VEVENT
DTSTART;TZID=America/Denver:20291129T183000
DTEND;TZID=America/Denver:20291129T220000
DTSTAMP:20260423T143332
CREATED:20260224T114252Z
LAST-MODIFIED:20260224T152121Z
UID:10005148-1890671400-1890684000@titandarts.com
SUMMARY:Summer League Information Thursday Events
DESCRIPTION:7 CAP HANDICAP – MIXED 01/CRICKET – 15 GAMES – $10/PLAYER
URL:https://titandarts.com/event-2/summer-league-information-thursday-events/2029-11-29/
CATEGORIES:Summer League Information
ATTACH;FMTTYPE=image/webp:https://titandarts.com/wp-content/uploads/2026/02/imgi_6_rsw_400h_533-1.webp
END:VEVENT
BEGIN:VEVENT
DTSTART;TZID=America/Denver:20291202T180000
DTEND;TZID=America/Denver:20291202T220000
DTSTAMP:20260423T143332
CREATED:20260224T082032Z
LAST-MODIFIED:20260224T112121Z
UID:10000197-1890928800-1890943200@titandarts.com
SUMMARY:Fall League Information Sunday Events
DESCRIPTION:PINK LADIES WOMEN’S LEAGUE 15 POINT CAP – HANDICAPPED – 501 OI/OO / CRICKET – 15 GAMES – $11 PER PLAYER PER WEEK *NOW WITH SINGLES* \nBB TRIOS 20 CAP – HANDICAPPED – 701OI/OO / CRICKET -17 GAMES – $10 PER PLAYER PER WEEK \nMASTER TRIOS 27 CAP – 19 GAMES – 701OI/MO / CRICKET – $15 PER PLAYER PER WEEK \n9 AND ABOVE SINGLES – 19 GAMES – 501 OI/MO / CK – $20 PER PLAYER PER WEEK $10 PER WEEK INTO THE PRIZE FUND \n8 AND UNDER SINGLES – 15 GAMES – 501 OI/OO / CK – $15 PER PLAYER PER WEEK $7.50 PER WEEK INTO THE PRIZE FUND
URL:https://titandarts.com/event-2/fall-league-information-sunday/2029-12-02/
CATEGORIES:Fall League Information
ATTACH;FMTTYPE=image/png:https://titandarts.com/wp-content/uploads/2026/02/imgi_5_rsw_400h_533.png
END:VEVENT
BEGIN:VEVENT
DTSTART;TZID=America/Denver:20291203T183000
DTEND;TZID=America/Denver:20291203T220000
DTSTAMP:20260423T143332
CREATED:20260224T112515Z
LAST-MODIFIED:20260224T112515Z
UID:10001763-1891017000-1891029600@titandarts.com
SUMMARY:Fall League Information Monday Events
DESCRIPTION:B DOUBLES 10 CAP – 501 OI/OO / CK MIX – 17 GAMES – $11 PER PLAYER PER WEEK \nMASTER DOUBLES 24 CAP – 701 OI/MO / 501 DI/DO / CK – $15 PER PLAYER PER WEEK
URL:https://titandarts.com/event-2/fall-league-information-monday-events/2029-12-03/
CATEGORIES:Fall League Information
ATTACH;FMTTYPE=image/png:https://titandarts.com/wp-content/uploads/2026/02/imgi_5_rsw_400h_533.png
END:VEVENT
BEGIN:VEVENT
DTSTART;TZID=America/Denver:20291203T183000
DTEND;TZID=America/Denver:20291203T235900
DTSTAMP:20260423T143332
CREATED:20260224T113456Z
LAST-MODIFIED:20260224T151926Z
UID:10005411-1891017000-1891036740@titandarts.com
SUMMARY:Summer League Information Monday Events
DESCRIPTION:UNLIMITED WOMENS HANDICAP DOUBLES – MIXED 01/CRICKET – 15 GAMES – $11/PLAYER
URL:https://titandarts.com/event-2/summer-league-information-monday-events/2029-12-03/
CATEGORIES:Summer League Information
ATTACH;FMTTYPE=image/webp:https://titandarts.com/wp-content/uploads/2026/02/imgi_6_rsw_400h_533-1.webp
END:VEVENT
BEGIN:VEVENT
DTSTART;TZID=America/Denver:20291204T183000
DTEND;TZID=America/Denver:20291204T220000
DTSTAMP:20260423T143332
CREATED:20260224T112553Z
LAST-MODIFIED:20260224T112553Z
UID:10002024-1891103400-1891116000@titandarts.com
SUMMARY:Fall League Information Tuesday Events
DESCRIPTION:BB DOUBLES 14 CAP – 501 OI/OO / CRICKET – 17 GAMES – $11 PER PLAYER PER WEEK \nAA DOUBLES 21 CAP – 701 OI/MO / CRICKET – 19 GAMES – $15 PER PLAYER PER WEEK
URL:https://titandarts.com/event-2/fall-league-information-tuesday-events/2029-12-04/
CATEGORIES:Fall League Information
ATTACH;FMTTYPE=image/png:https://titandarts.com/wp-content/uploads/2026/02/imgi_5_rsw_400h_533.png
END:VEVENT
BEGIN:VEVENT
DTSTART;TZID=America/Denver:20291204T183000
DTEND;TZID=America/Denver:20291204T235900
DTSTAMP:20260423T143332
CREATED:20260224T113859Z
LAST-MODIFIED:20260224T151841Z
UID:10005672-1891103400-1891123140@titandarts.com
SUMMARY:Summer League Information Tuesday Events
DESCRIPTION:21 CAP HANDICAP DOUBLES – MIXED 01/CRICKET – 19 GAMES – $15/PLAYER
URL:https://titandarts.com/event-2/summer-league-information-tuesday-events/2029-12-04/
CATEGORIES:Summer League Information
ATTACH;FMTTYPE=image/webp:https://titandarts.com/wp-content/uploads/2026/02/imgi_6_rsw_400h_533-1.webp
END:VEVENT
BEGIN:VEVENT
DTSTART;VALUE=DATE:20291205
DTEND;VALUE=DATE:20291206
DTSTAMP:20260423T143332
CREATED:20260224T114057Z
LAST-MODIFIED:20260224T152041Z
UID:10004369-1891123200-1891209599@titandarts.com
SUMMARY:Summer League Information Wednesday Events
DESCRIPTION:15 CAP HANDICAP DOUBLES – MIXED 01/ CRICKET – 17 GAMES – $11/PLAYER
URL:https://titandarts.com/event-2/summer-league-information-wednesday-events/2029-12-05/
CATEGORIES:Summer League Information
ATTACH;FMTTYPE=image/webp:https://titandarts.com/wp-content/uploads/2026/02/imgi_6_rsw_400h_533-1.webp
END:VEVENT
BEGIN:VEVENT
DTSTART;TZID=America/Denver:20291205T183000
DTEND;TZID=America/Denver:20291205T220000
DTSTAMP:20260423T143332
CREATED:20260224T112622Z
LAST-MODIFIED:20260224T114011Z
UID:10004109-1891189800-1891202400@titandarts.com
SUMMARY:Fall League Information Wednesday Events
DESCRIPTION:C DOUBLES 8 CAP – 501 OI/OO / CRICKET – 15 GAMES – $10 PER PLAYER PER WEEK \nA DOUBLES 18 CAP – 701 OI/OO / CRICKET – 19 GAMES – $13 PER PLAYER PER WEEK
URL:https://titandarts.com/event-2/fall-league-information-wednesday-events/2029-12-05/
CATEGORIES:Fall League Information
ATTACH;FMTTYPE=image/png:https://titandarts.com/wp-content/uploads/2026/02/imgi_5_rsw_400h_533.png
END:VEVENT
BEGIN:VEVENT
DTSTART;TZID=America/Denver:20291206T183000
DTEND;TZID=America/Denver:20291206T220000
DTSTAMP:20260423T143332
CREATED:20260224T112650Z
LAST-MODIFIED:20260224T114225Z
UID:10004889-1891276200-1891288800@titandarts.com
SUMMARY:Fall League Information Thursday Events
DESCRIPTION:HANDICAP DOUBLES 16 CAP MAX – 501  OI/OO / CRICKET – 17 GAMES – $11 PER PLAYER PER WEEK \nNOVICE DOUBLES 5 CAP – 501 OI/OO / CRICKET – 13 GAMES – $9 PER PLAYER PER WEEK
URL:https://titandarts.com/event-2/fall-league-information-thursday-events/2029-12-06/
CATEGORIES:Fall League Information
ATTACH;FMTTYPE=image/png:https://titandarts.com/wp-content/uploads/2026/02/imgi_5_rsw_400h_533.png
END:VEVENT
BEGIN:VEVENT
DTSTART;TZID=America/Denver:20291206T183000
DTEND;TZID=America/Denver:20291206T220000
DTSTAMP:20260423T143332
CREATED:20260224T114252Z
LAST-MODIFIED:20260224T152121Z
UID:10005149-1891276200-1891288800@titandarts.com
SUMMARY:Summer League Information Thursday Events
DESCRIPTION:7 CAP HANDICAP – MIXED 01/CRICKET – 15 GAMES – $10/PLAYER
URL:https://titandarts.com/event-2/summer-league-information-thursday-events/2029-12-06/
CATEGORIES:Summer League Information
ATTACH;FMTTYPE=image/webp:https://titandarts.com/wp-content/uploads/2026/02/imgi_6_rsw_400h_533-1.webp
END:VEVENT
BEGIN:VEVENT
DTSTART;TZID=America/Denver:20291209T180000
DTEND;TZID=America/Denver:20291209T220000
DTSTAMP:20260423T143332
CREATED:20260224T082032Z
LAST-MODIFIED:20260224T112121Z
UID:10000198-1891533600-1891548000@titandarts.com
SUMMARY:Fall League Information Sunday Events
DESCRIPTION:PINK LADIES WOMEN’S LEAGUE 15 POINT CAP – HANDICAPPED – 501 OI/OO / CRICKET – 15 GAMES – $11 PER PLAYER PER WEEK *NOW WITH SINGLES* \nBB TRIOS 20 CAP – HANDICAPPED – 701OI/OO / CRICKET -17 GAMES – $10 PER PLAYER PER WEEK \nMASTER TRIOS 27 CAP – 19 GAMES – 701OI/MO / CRICKET – $15 PER PLAYER PER WEEK \n9 AND ABOVE SINGLES – 19 GAMES – 501 OI/MO / CK – $20 PER PLAYER PER WEEK $10 PER WEEK INTO THE PRIZE FUND \n8 AND UNDER SINGLES – 15 GAMES – 501 OI/OO / CK – $15 PER PLAYER PER WEEK $7.50 PER WEEK INTO THE PRIZE FUND
URL:https://titandarts.com/event-2/fall-league-information-sunday/2029-12-09/
CATEGORIES:Fall League Information
ATTACH;FMTTYPE=image/png:https://titandarts.com/wp-content/uploads/2026/02/imgi_5_rsw_400h_533.png
END:VEVENT
BEGIN:VEVENT
DTSTART;TZID=America/Denver:20291210T183000
DTEND;TZID=America/Denver:20291210T220000
DTSTAMP:20260423T143332
CREATED:20260224T112515Z
LAST-MODIFIED:20260224T112515Z
UID:10001764-1891621800-1891634400@titandarts.com
SUMMARY:Fall League Information Monday Events
DESCRIPTION:B DOUBLES 10 CAP – 501 OI/OO / CK MIX – 17 GAMES – $11 PER PLAYER PER WEEK \nMASTER DOUBLES 24 CAP – 701 OI/MO / 501 DI/DO / CK – $15 PER PLAYER PER WEEK
URL:https://titandarts.com/event-2/fall-league-information-monday-events/2029-12-10/
CATEGORIES:Fall League Information
ATTACH;FMTTYPE=image/png:https://titandarts.com/wp-content/uploads/2026/02/imgi_5_rsw_400h_533.png
END:VEVENT
BEGIN:VEVENT
DTSTART;TZID=America/Denver:20291210T183000
DTEND;TZID=America/Denver:20291210T235900
DTSTAMP:20260423T143332
CREATED:20260224T113456Z
LAST-MODIFIED:20260224T151926Z
UID:10005412-1891621800-1891641540@titandarts.com
SUMMARY:Summer League Information Monday Events
DESCRIPTION:UNLIMITED WOMENS HANDICAP DOUBLES – MIXED 01/CRICKET – 15 GAMES – $11/PLAYER
URL:https://titandarts.com/event-2/summer-league-information-monday-events/2029-12-10/
CATEGORIES:Summer League Information
ATTACH;FMTTYPE=image/webp:https://titandarts.com/wp-content/uploads/2026/02/imgi_6_rsw_400h_533-1.webp
END:VEVENT
BEGIN:VEVENT
DTSTART;TZID=America/Denver:20291211T183000
DTEND;TZID=America/Denver:20291211T220000
DTSTAMP:20260423T143332
CREATED:20260224T112553Z
LAST-MODIFIED:20260224T112553Z
UID:10002025-1891708200-1891720800@titandarts.com
SUMMARY:Fall League Information Tuesday Events
DESCRIPTION:BB DOUBLES 14 CAP – 501 OI/OO / CRICKET – 17 GAMES – $11 PER PLAYER PER WEEK \nAA DOUBLES 21 CAP – 701 OI/MO / CRICKET – 19 GAMES – $15 PER PLAYER PER WEEK
URL:https://titandarts.com/event-2/fall-league-information-tuesday-events/2029-12-11/
CATEGORIES:Fall League Information
ATTACH;FMTTYPE=image/png:https://titandarts.com/wp-content/uploads/2026/02/imgi_5_rsw_400h_533.png
END:VEVENT
END:VCALENDAR