BEGIN:VCALENDAR
VERSION:2.0
PRODID:-//Titan Darts - ECPv6.15.20//NONSGML v1.0//EN
CALSCALE:GREGORIAN
METHOD:PUBLISH
X-ORIGINAL-URL:https://titandarts.com
X-WR-CALDESC:Events for Titan Darts
REFRESH-INTERVAL;VALUE=DURATION:PT1H
X-Robots-Tag:noindex
X-PUBLISHED-TTL:PT1H
BEGIN:VTIMEZONE
TZID:America/Denver
BEGIN:DAYLIGHT
TZOFFSETFROM:-0700
TZOFFSETTO:-0600
TZNAME:MDT
DTSTART:20260308T090000
END:DAYLIGHT
BEGIN:STANDARD
TZOFFSETFROM:-0600
TZOFFSETTO:-0700
TZNAME:MST
DTSTART:20261101T080000
END:STANDARD
BEGIN:DAYLIGHT
TZOFFSETFROM:-0700
TZOFFSETTO:-0600
TZNAME:MDT
DTSTART:20270314T090000
END:DAYLIGHT
BEGIN:STANDARD
TZOFFSETFROM:-0600
TZOFFSETTO:-0700
TZNAME:MST
DTSTART:20271107T080000
END:STANDARD
BEGIN:DAYLIGHT
TZOFFSETFROM:-0700
TZOFFSETTO:-0600
TZNAME:MDT
DTSTART:20280312T090000
END:DAYLIGHT
BEGIN:STANDARD
TZOFFSETFROM:-0600
TZOFFSETTO:-0700
TZNAME:MST
DTSTART:20281105T080000
END:STANDARD
END:VTIMEZONE
BEGIN:VEVENT
DTSTART;TZID=America/Denver:20271114T180000
DTEND;TZID=America/Denver:20271114T220000
DTSTAMP:20260421T180538
CREATED:20260224T082032Z
LAST-MODIFIED:20260224T112121Z
UID:10000090-1826215200-1826229600@titandarts.com
SUMMARY:Fall League Information Sunday Events
DESCRIPTION:PINK LADIES WOMEN’S LEAGUE 15 POINT CAP – HANDICAPPED – 501 OI/OO / CRICKET – 15 GAMES – $11 PER PLAYER PER WEEK *NOW WITH SINGLES* \nBB TRIOS 20 CAP – HANDICAPPED – 701OI/OO / CRICKET -17 GAMES – $10 PER PLAYER PER WEEK \nMASTER TRIOS 27 CAP – 19 GAMES – 701OI/MO / CRICKET – $15 PER PLAYER PER WEEK \n9 AND ABOVE SINGLES – 19 GAMES – 501 OI/MO / CK – $20 PER PLAYER PER WEEK $10 PER WEEK INTO THE PRIZE FUND \n8 AND UNDER SINGLES – 15 GAMES – 501 OI/OO / CK – $15 PER PLAYER PER WEEK $7.50 PER WEEK INTO THE PRIZE FUND
URL:https://titandarts.com/event-2/fall-league-information-sunday/2027-11-14/
CATEGORIES:Fall League Information
ATTACH;FMTTYPE=image/png:https://titandarts.com/wp-content/uploads/2026/02/imgi_5_rsw_400h_533.png
END:VEVENT
BEGIN:VEVENT
DTSTART;TZID=America/Denver:20271115T183000
DTEND;TZID=America/Denver:20271115T220000
DTSTAMP:20260421T180538
CREATED:20260224T112515Z
LAST-MODIFIED:20260224T112515Z
UID:10001656-1826303400-1826316000@titandarts.com
SUMMARY:Fall League Information Monday Events
DESCRIPTION:B DOUBLES 10 CAP – 501 OI/OO / CK MIX – 17 GAMES – $11 PER PLAYER PER WEEK \nMASTER DOUBLES 24 CAP – 701 OI/MO / 501 DI/DO / CK – $15 PER PLAYER PER WEEK
URL:https://titandarts.com/event-2/fall-league-information-monday-events/2027-11-15/
CATEGORIES:Fall League Information
ATTACH;FMTTYPE=image/png:https://titandarts.com/wp-content/uploads/2026/02/imgi_5_rsw_400h_533.png
END:VEVENT
BEGIN:VEVENT
DTSTART;TZID=America/Denver:20271115T183000
DTEND;TZID=America/Denver:20271115T235900
DTSTAMP:20260421T180538
CREATED:20260224T113456Z
LAST-MODIFIED:20260224T151926Z
UID:10005304-1826303400-1826323140@titandarts.com
SUMMARY:Summer League Information Monday Events
DESCRIPTION:UNLIMITED WOMENS HANDICAP DOUBLES – MIXED 01/CRICKET – 15 GAMES – $11/PLAYER
URL:https://titandarts.com/event-2/summer-league-information-monday-events/2027-11-15/
CATEGORIES:Summer League Information
ATTACH;FMTTYPE=image/webp:https://titandarts.com/wp-content/uploads/2026/02/imgi_6_rsw_400h_533-1.webp
END:VEVENT
BEGIN:VEVENT
DTSTART;TZID=America/Denver:20271116T183000
DTEND;TZID=America/Denver:20271116T220000
DTSTAMP:20260421T180538
CREATED:20260224T112553Z
LAST-MODIFIED:20260224T112553Z
UID:10001917-1826389800-1826402400@titandarts.com
SUMMARY:Fall League Information Tuesday Events
DESCRIPTION:BB DOUBLES 14 CAP – 501 OI/OO / CRICKET – 17 GAMES – $11 PER PLAYER PER WEEK \nAA DOUBLES 21 CAP – 701 OI/MO / CRICKET – 19 GAMES – $15 PER PLAYER PER WEEK
URL:https://titandarts.com/event-2/fall-league-information-tuesday-events/2027-11-16/
CATEGORIES:Fall League Information
ATTACH;FMTTYPE=image/png:https://titandarts.com/wp-content/uploads/2026/02/imgi_5_rsw_400h_533.png
END:VEVENT
BEGIN:VEVENT
DTSTART;TZID=America/Denver:20271116T183000
DTEND;TZID=America/Denver:20271116T235900
DTSTAMP:20260421T180538
CREATED:20260224T113859Z
LAST-MODIFIED:20260224T151841Z
UID:10005565-1826389800-1826409540@titandarts.com
SUMMARY:Summer League Information Tuesday Events
DESCRIPTION:21 CAP HANDICAP DOUBLES – MIXED 01/CRICKET – 19 GAMES – $15/PLAYER
URL:https://titandarts.com/event-2/summer-league-information-tuesday-events/2027-11-16/
CATEGORIES:Summer League Information
ATTACH;FMTTYPE=image/webp:https://titandarts.com/wp-content/uploads/2026/02/imgi_6_rsw_400h_533-1.webp
END:VEVENT
BEGIN:VEVENT
DTSTART;VALUE=DATE:20271117
DTEND;VALUE=DATE:20271118
DTSTAMP:20260421T180538
CREATED:20260224T114057Z
LAST-MODIFIED:20260224T152041Z
UID:10004262-1826409600-1826495999@titandarts.com
SUMMARY:Summer League Information Wednesday Events
DESCRIPTION:15 CAP HANDICAP DOUBLES – MIXED 01/ CRICKET – 17 GAMES – $11/PLAYER
URL:https://titandarts.com/event-2/summer-league-information-wednesday-events/2027-11-17/
CATEGORIES:Summer League Information
ATTACH;FMTTYPE=image/webp:https://titandarts.com/wp-content/uploads/2026/02/imgi_6_rsw_400h_533-1.webp
END:VEVENT
BEGIN:VEVENT
DTSTART;TZID=America/Denver:20271117T183000
DTEND;TZID=America/Denver:20271117T220000
DTSTAMP:20260421T180538
CREATED:20260224T112622Z
LAST-MODIFIED:20260224T114011Z
UID:10004002-1826476200-1826488800@titandarts.com
SUMMARY:Fall League Information Wednesday Events
DESCRIPTION:C DOUBLES 8 CAP – 501 OI/OO / CRICKET – 15 GAMES – $10 PER PLAYER PER WEEK \nA DOUBLES 18 CAP – 701 OI/OO / CRICKET – 19 GAMES – $13 PER PLAYER PER WEEK
URL:https://titandarts.com/event-2/fall-league-information-wednesday-events/2027-11-17/
CATEGORIES:Fall League Information
ATTACH;FMTTYPE=image/png:https://titandarts.com/wp-content/uploads/2026/02/imgi_5_rsw_400h_533.png
END:VEVENT
BEGIN:VEVENT
DTSTART;TZID=America/Denver:20271118T183000
DTEND;TZID=America/Denver:20271118T220000
DTSTAMP:20260421T180538
CREATED:20260224T112650Z
LAST-MODIFIED:20260224T114225Z
UID:10004782-1826562600-1826575200@titandarts.com
SUMMARY:Fall League Information Thursday Events
DESCRIPTION:HANDICAP DOUBLES 16 CAP MAX – 501  OI/OO / CRICKET – 17 GAMES – $11 PER PLAYER PER WEEK \nNOVICE DOUBLES 5 CAP – 501 OI/OO / CRICKET – 13 GAMES – $9 PER PLAYER PER WEEK
URL:https://titandarts.com/event-2/fall-league-information-thursday-events/2027-11-18/
CATEGORIES:Fall League Information
ATTACH;FMTTYPE=image/png:https://titandarts.com/wp-content/uploads/2026/02/imgi_5_rsw_400h_533.png
END:VEVENT
BEGIN:VEVENT
DTSTART;TZID=America/Denver:20271118T183000
DTEND;TZID=America/Denver:20271118T220000
DTSTAMP:20260421T180538
CREATED:20260224T114252Z
LAST-MODIFIED:20260224T152121Z
UID:10005042-1826562600-1826575200@titandarts.com
SUMMARY:Summer League Information Thursday Events
DESCRIPTION:7 CAP HANDICAP – MIXED 01/CRICKET – 15 GAMES – $10/PLAYER
URL:https://titandarts.com/event-2/summer-league-information-thursday-events/2027-11-18/
CATEGORIES:Summer League Information
ATTACH;FMTTYPE=image/webp:https://titandarts.com/wp-content/uploads/2026/02/imgi_6_rsw_400h_533-1.webp
END:VEVENT
BEGIN:VEVENT
DTSTART;TZID=America/Denver:20271121T180000
DTEND;TZID=America/Denver:20271121T220000
DTSTAMP:20260421T180539
CREATED:20260224T082032Z
LAST-MODIFIED:20260224T112121Z
UID:10000091-1826820000-1826834400@titandarts.com
SUMMARY:Fall League Information Sunday Events
DESCRIPTION:PINK LADIES WOMEN’S LEAGUE 15 POINT CAP – HANDICAPPED – 501 OI/OO / CRICKET – 15 GAMES – $11 PER PLAYER PER WEEK *NOW WITH SINGLES* \nBB TRIOS 20 CAP – HANDICAPPED – 701OI/OO / CRICKET -17 GAMES – $10 PER PLAYER PER WEEK \nMASTER TRIOS 27 CAP – 19 GAMES – 701OI/MO / CRICKET – $15 PER PLAYER PER WEEK \n9 AND ABOVE SINGLES – 19 GAMES – 501 OI/MO / CK – $20 PER PLAYER PER WEEK $10 PER WEEK INTO THE PRIZE FUND \n8 AND UNDER SINGLES – 15 GAMES – 501 OI/OO / CK – $15 PER PLAYER PER WEEK $7.50 PER WEEK INTO THE PRIZE FUND
URL:https://titandarts.com/event-2/fall-league-information-sunday/2027-11-21/
CATEGORIES:Fall League Information
ATTACH;FMTTYPE=image/png:https://titandarts.com/wp-content/uploads/2026/02/imgi_5_rsw_400h_533.png
END:VEVENT
BEGIN:VEVENT
DTSTART;TZID=America/Denver:20271122T183000
DTEND;TZID=America/Denver:20271122T220000
DTSTAMP:20260421T180539
CREATED:20260224T112515Z
LAST-MODIFIED:20260224T112515Z
UID:10001657-1826908200-1826920800@titandarts.com
SUMMARY:Fall League Information Monday Events
DESCRIPTION:B DOUBLES 10 CAP – 501 OI/OO / CK MIX – 17 GAMES – $11 PER PLAYER PER WEEK \nMASTER DOUBLES 24 CAP – 701 OI/MO / 501 DI/DO / CK – $15 PER PLAYER PER WEEK
URL:https://titandarts.com/event-2/fall-league-information-monday-events/2027-11-22/
CATEGORIES:Fall League Information
ATTACH;FMTTYPE=image/png:https://titandarts.com/wp-content/uploads/2026/02/imgi_5_rsw_400h_533.png
END:VEVENT
BEGIN:VEVENT
DTSTART;TZID=America/Denver:20271122T183000
DTEND;TZID=America/Denver:20271122T235900
DTSTAMP:20260421T180539
CREATED:20260224T113456Z
LAST-MODIFIED:20260224T151926Z
UID:10005305-1826908200-1826927940@titandarts.com
SUMMARY:Summer League Information Monday Events
DESCRIPTION:UNLIMITED WOMENS HANDICAP DOUBLES – MIXED 01/CRICKET – 15 GAMES – $11/PLAYER
URL:https://titandarts.com/event-2/summer-league-information-monday-events/2027-11-22/
CATEGORIES:Summer League Information
ATTACH;FMTTYPE=image/webp:https://titandarts.com/wp-content/uploads/2026/02/imgi_6_rsw_400h_533-1.webp
END:VEVENT
BEGIN:VEVENT
DTSTART;TZID=America/Denver:20271123T183000
DTEND;TZID=America/Denver:20271123T220000
DTSTAMP:20260421T180539
CREATED:20260224T112553Z
LAST-MODIFIED:20260224T112553Z
UID:10001918-1826994600-1827007200@titandarts.com
SUMMARY:Fall League Information Tuesday Events
DESCRIPTION:BB DOUBLES 14 CAP – 501 OI/OO / CRICKET – 17 GAMES – $11 PER PLAYER PER WEEK \nAA DOUBLES 21 CAP – 701 OI/MO / CRICKET – 19 GAMES – $15 PER PLAYER PER WEEK
URL:https://titandarts.com/event-2/fall-league-information-tuesday-events/2027-11-23/
CATEGORIES:Fall League Information
ATTACH;FMTTYPE=image/png:https://titandarts.com/wp-content/uploads/2026/02/imgi_5_rsw_400h_533.png
END:VEVENT
BEGIN:VEVENT
DTSTART;TZID=America/Denver:20271123T183000
DTEND;TZID=America/Denver:20271123T235900
DTSTAMP:20260421T180539
CREATED:20260224T113859Z
LAST-MODIFIED:20260224T151841Z
UID:10005566-1826994600-1827014340@titandarts.com
SUMMARY:Summer League Information Tuesday Events
DESCRIPTION:21 CAP HANDICAP DOUBLES – MIXED 01/CRICKET – 19 GAMES – $15/PLAYER
URL:https://titandarts.com/event-2/summer-league-information-tuesday-events/2027-11-23/
CATEGORIES:Summer League Information
ATTACH;FMTTYPE=image/webp:https://titandarts.com/wp-content/uploads/2026/02/imgi_6_rsw_400h_533-1.webp
END:VEVENT
BEGIN:VEVENT
DTSTART;VALUE=DATE:20271124
DTEND;VALUE=DATE:20271125
DTSTAMP:20260421T180539
CREATED:20260224T114057Z
LAST-MODIFIED:20260224T152041Z
UID:10004263-1827014400-1827100799@titandarts.com
SUMMARY:Summer League Information Wednesday Events
DESCRIPTION:15 CAP HANDICAP DOUBLES – MIXED 01/ CRICKET – 17 GAMES – $11/PLAYER
URL:https://titandarts.com/event-2/summer-league-information-wednesday-events/2027-11-24/
CATEGORIES:Summer League Information
ATTACH;FMTTYPE=image/webp:https://titandarts.com/wp-content/uploads/2026/02/imgi_6_rsw_400h_533-1.webp
END:VEVENT
BEGIN:VEVENT
DTSTART;TZID=America/Denver:20271124T183000
DTEND;TZID=America/Denver:20271124T220000
DTSTAMP:20260421T180539
CREATED:20260224T112622Z
LAST-MODIFIED:20260224T114011Z
UID:10004003-1827081000-1827093600@titandarts.com
SUMMARY:Fall League Information Wednesday Events
DESCRIPTION:C DOUBLES 8 CAP – 501 OI/OO / CRICKET – 15 GAMES – $10 PER PLAYER PER WEEK \nA DOUBLES 18 CAP – 701 OI/OO / CRICKET – 19 GAMES – $13 PER PLAYER PER WEEK
URL:https://titandarts.com/event-2/fall-league-information-wednesday-events/2027-11-24/
CATEGORIES:Fall League Information
ATTACH;FMTTYPE=image/png:https://titandarts.com/wp-content/uploads/2026/02/imgi_5_rsw_400h_533.png
END:VEVENT
BEGIN:VEVENT
DTSTART;TZID=America/Denver:20271125T183000
DTEND;TZID=America/Denver:20271125T220000
DTSTAMP:20260421T180539
CREATED:20260224T112650Z
LAST-MODIFIED:20260224T114225Z
UID:10004783-1827167400-1827180000@titandarts.com
SUMMARY:Fall League Information Thursday Events
DESCRIPTION:HANDICAP DOUBLES 16 CAP MAX – 501  OI/OO / CRICKET – 17 GAMES – $11 PER PLAYER PER WEEK \nNOVICE DOUBLES 5 CAP – 501 OI/OO / CRICKET – 13 GAMES – $9 PER PLAYER PER WEEK
URL:https://titandarts.com/event-2/fall-league-information-thursday-events/2027-11-25/
CATEGORIES:Fall League Information
ATTACH;FMTTYPE=image/png:https://titandarts.com/wp-content/uploads/2026/02/imgi_5_rsw_400h_533.png
END:VEVENT
BEGIN:VEVENT
DTSTART;TZID=America/Denver:20271125T183000
DTEND;TZID=America/Denver:20271125T220000
DTSTAMP:20260421T180539
CREATED:20260224T114252Z
LAST-MODIFIED:20260224T152121Z
UID:10005043-1827167400-1827180000@titandarts.com
SUMMARY:Summer League Information Thursday Events
DESCRIPTION:7 CAP HANDICAP – MIXED 01/CRICKET – 15 GAMES – $10/PLAYER
URL:https://titandarts.com/event-2/summer-league-information-thursday-events/2027-11-25/
CATEGORIES:Summer League Information
ATTACH;FMTTYPE=image/webp:https://titandarts.com/wp-content/uploads/2026/02/imgi_6_rsw_400h_533-1.webp
END:VEVENT
BEGIN:VEVENT
DTSTART;TZID=America/Denver:20271128T180000
DTEND;TZID=America/Denver:20271128T220000
DTSTAMP:20260421T180539
CREATED:20260224T082032Z
LAST-MODIFIED:20260224T112121Z
UID:10000092-1827424800-1827439200@titandarts.com
SUMMARY:Fall League Information Sunday Events
DESCRIPTION:PINK LADIES WOMEN’S LEAGUE 15 POINT CAP – HANDICAPPED – 501 OI/OO / CRICKET – 15 GAMES – $11 PER PLAYER PER WEEK *NOW WITH SINGLES* \nBB TRIOS 20 CAP – HANDICAPPED – 701OI/OO / CRICKET -17 GAMES – $10 PER PLAYER PER WEEK \nMASTER TRIOS 27 CAP – 19 GAMES – 701OI/MO / CRICKET – $15 PER PLAYER PER WEEK \n9 AND ABOVE SINGLES – 19 GAMES – 501 OI/MO / CK – $20 PER PLAYER PER WEEK $10 PER WEEK INTO THE PRIZE FUND \n8 AND UNDER SINGLES – 15 GAMES – 501 OI/OO / CK – $15 PER PLAYER PER WEEK $7.50 PER WEEK INTO THE PRIZE FUND
URL:https://titandarts.com/event-2/fall-league-information-sunday/2027-11-28/
CATEGORIES:Fall League Information
ATTACH;FMTTYPE=image/png:https://titandarts.com/wp-content/uploads/2026/02/imgi_5_rsw_400h_533.png
END:VEVENT
BEGIN:VEVENT
DTSTART;TZID=America/Denver:20271129T183000
DTEND;TZID=America/Denver:20271129T220000
DTSTAMP:20260421T180539
CREATED:20260224T112515Z
LAST-MODIFIED:20260224T112515Z
UID:10001658-1827513000-1827525600@titandarts.com
SUMMARY:Fall League Information Monday Events
DESCRIPTION:B DOUBLES 10 CAP – 501 OI/OO / CK MIX – 17 GAMES – $11 PER PLAYER PER WEEK \nMASTER DOUBLES 24 CAP – 701 OI/MO / 501 DI/DO / CK – $15 PER PLAYER PER WEEK
URL:https://titandarts.com/event-2/fall-league-information-monday-events/2027-11-29/
CATEGORIES:Fall League Information
ATTACH;FMTTYPE=image/png:https://titandarts.com/wp-content/uploads/2026/02/imgi_5_rsw_400h_533.png
END:VEVENT
BEGIN:VEVENT
DTSTART;TZID=America/Denver:20271129T183000
DTEND;TZID=America/Denver:20271129T235900
DTSTAMP:20260421T180539
CREATED:20260224T113456Z
LAST-MODIFIED:20260224T151926Z
UID:10005306-1827513000-1827532740@titandarts.com
SUMMARY:Summer League Information Monday Events
DESCRIPTION:UNLIMITED WOMENS HANDICAP DOUBLES – MIXED 01/CRICKET – 15 GAMES – $11/PLAYER
URL:https://titandarts.com/event-2/summer-league-information-monday-events/2027-11-29/
CATEGORIES:Summer League Information
ATTACH;FMTTYPE=image/webp:https://titandarts.com/wp-content/uploads/2026/02/imgi_6_rsw_400h_533-1.webp
END:VEVENT
BEGIN:VEVENT
DTSTART;TZID=America/Denver:20271130T183000
DTEND;TZID=America/Denver:20271130T220000
DTSTAMP:20260421T180539
CREATED:20260224T112553Z
LAST-MODIFIED:20260224T112553Z
UID:10001919-1827599400-1827612000@titandarts.com
SUMMARY:Fall League Information Tuesday Events
DESCRIPTION:BB DOUBLES 14 CAP – 501 OI/OO / CRICKET – 17 GAMES – $11 PER PLAYER PER WEEK \nAA DOUBLES 21 CAP – 701 OI/MO / CRICKET – 19 GAMES – $15 PER PLAYER PER WEEK
URL:https://titandarts.com/event-2/fall-league-information-tuesday-events/2027-11-30/
CATEGORIES:Fall League Information
ATTACH;FMTTYPE=image/png:https://titandarts.com/wp-content/uploads/2026/02/imgi_5_rsw_400h_533.png
END:VEVENT
BEGIN:VEVENT
DTSTART;TZID=America/Denver:20271130T183000
DTEND;TZID=America/Denver:20271130T235900
DTSTAMP:20260421T180539
CREATED:20260224T113859Z
LAST-MODIFIED:20260224T151841Z
UID:10005567-1827599400-1827619140@titandarts.com
SUMMARY:Summer League Information Tuesday Events
DESCRIPTION:21 CAP HANDICAP DOUBLES – MIXED 01/CRICKET – 19 GAMES – $15/PLAYER
URL:https://titandarts.com/event-2/summer-league-information-tuesday-events/2027-11-30/
CATEGORIES:Summer League Information
ATTACH;FMTTYPE=image/webp:https://titandarts.com/wp-content/uploads/2026/02/imgi_6_rsw_400h_533-1.webp
END:VEVENT
BEGIN:VEVENT
DTSTART;VALUE=DATE:20271201
DTEND;VALUE=DATE:20271202
DTSTAMP:20260421T180539
CREATED:20260224T114057Z
LAST-MODIFIED:20260224T152041Z
UID:10004264-1827619200-1827705599@titandarts.com
SUMMARY:Summer League Information Wednesday Events
DESCRIPTION:15 CAP HANDICAP DOUBLES – MIXED 01/ CRICKET – 17 GAMES – $11/PLAYER
URL:https://titandarts.com/event-2/summer-league-information-wednesday-events/2027-12-01/
CATEGORIES:Summer League Information
ATTACH;FMTTYPE=image/webp:https://titandarts.com/wp-content/uploads/2026/02/imgi_6_rsw_400h_533-1.webp
END:VEVENT
BEGIN:VEVENT
DTSTART;TZID=America/Denver:20271201T183000
DTEND;TZID=America/Denver:20271201T220000
DTSTAMP:20260421T180539
CREATED:20260224T112622Z
LAST-MODIFIED:20260224T114011Z
UID:10004004-1827685800-1827698400@titandarts.com
SUMMARY:Fall League Information Wednesday Events
DESCRIPTION:C DOUBLES 8 CAP – 501 OI/OO / CRICKET – 15 GAMES – $10 PER PLAYER PER WEEK \nA DOUBLES 18 CAP – 701 OI/OO / CRICKET – 19 GAMES – $13 PER PLAYER PER WEEK
URL:https://titandarts.com/event-2/fall-league-information-wednesday-events/2027-12-01/
CATEGORIES:Fall League Information
ATTACH;FMTTYPE=image/png:https://titandarts.com/wp-content/uploads/2026/02/imgi_5_rsw_400h_533.png
END:VEVENT
BEGIN:VEVENT
DTSTART;TZID=America/Denver:20271202T183000
DTEND;TZID=America/Denver:20271202T220000
DTSTAMP:20260421T180539
CREATED:20260224T112650Z
LAST-MODIFIED:20260224T114225Z
UID:10004784-1827772200-1827784800@titandarts.com
SUMMARY:Fall League Information Thursday Events
DESCRIPTION:HANDICAP DOUBLES 16 CAP MAX – 501  OI/OO / CRICKET – 17 GAMES – $11 PER PLAYER PER WEEK \nNOVICE DOUBLES 5 CAP – 501 OI/OO / CRICKET – 13 GAMES – $9 PER PLAYER PER WEEK
URL:https://titandarts.com/event-2/fall-league-information-thursday-events/2027-12-02/
CATEGORIES:Fall League Information
ATTACH;FMTTYPE=image/png:https://titandarts.com/wp-content/uploads/2026/02/imgi_5_rsw_400h_533.png
END:VEVENT
BEGIN:VEVENT
DTSTART;TZID=America/Denver:20271202T183000
DTEND;TZID=America/Denver:20271202T220000
DTSTAMP:20260421T180539
CREATED:20260224T114252Z
LAST-MODIFIED:20260224T152121Z
UID:10005044-1827772200-1827784800@titandarts.com
SUMMARY:Summer League Information Thursday Events
DESCRIPTION:7 CAP HANDICAP – MIXED 01/CRICKET – 15 GAMES – $10/PLAYER
URL:https://titandarts.com/event-2/summer-league-information-thursday-events/2027-12-02/
CATEGORIES:Summer League Information
ATTACH;FMTTYPE=image/webp:https://titandarts.com/wp-content/uploads/2026/02/imgi_6_rsw_400h_533-1.webp
END:VEVENT
BEGIN:VEVENT
DTSTART;TZID=America/Denver:20271205T180000
DTEND;TZID=America/Denver:20271205T220000
DTSTAMP:20260421T180539
CREATED:20260224T082032Z
LAST-MODIFIED:20260224T112121Z
UID:10000093-1828029600-1828044000@titandarts.com
SUMMARY:Fall League Information Sunday Events
DESCRIPTION:PINK LADIES WOMEN’S LEAGUE 15 POINT CAP – HANDICAPPED – 501 OI/OO / CRICKET – 15 GAMES – $11 PER PLAYER PER WEEK *NOW WITH SINGLES* \nBB TRIOS 20 CAP – HANDICAPPED – 701OI/OO / CRICKET -17 GAMES – $10 PER PLAYER PER WEEK \nMASTER TRIOS 27 CAP – 19 GAMES – 701OI/MO / CRICKET – $15 PER PLAYER PER WEEK \n9 AND ABOVE SINGLES – 19 GAMES – 501 OI/MO / CK – $20 PER PLAYER PER WEEK $10 PER WEEK INTO THE PRIZE FUND \n8 AND UNDER SINGLES – 15 GAMES – 501 OI/OO / CK – $15 PER PLAYER PER WEEK $7.50 PER WEEK INTO THE PRIZE FUND
URL:https://titandarts.com/event-2/fall-league-information-sunday/2027-12-05/
CATEGORIES:Fall League Information
ATTACH;FMTTYPE=image/png:https://titandarts.com/wp-content/uploads/2026/02/imgi_5_rsw_400h_533.png
END:VEVENT
BEGIN:VEVENT
DTSTART;TZID=America/Denver:20271206T183000
DTEND;TZID=America/Denver:20271206T220000
DTSTAMP:20260421T180539
CREATED:20260224T112515Z
LAST-MODIFIED:20260224T112515Z
UID:10001659-1828117800-1828130400@titandarts.com
SUMMARY:Fall League Information Monday Events
DESCRIPTION:B DOUBLES 10 CAP – 501 OI/OO / CK MIX – 17 GAMES – $11 PER PLAYER PER WEEK \nMASTER DOUBLES 24 CAP – 701 OI/MO / 501 DI/DO / CK – $15 PER PLAYER PER WEEK
URL:https://titandarts.com/event-2/fall-league-information-monday-events/2027-12-06/
CATEGORIES:Fall League Information
ATTACH;FMTTYPE=image/png:https://titandarts.com/wp-content/uploads/2026/02/imgi_5_rsw_400h_533.png
END:VEVENT
BEGIN:VEVENT
DTSTART;TZID=America/Denver:20271206T183000
DTEND;TZID=America/Denver:20271206T235900
DTSTAMP:20260421T180539
CREATED:20260224T113456Z
LAST-MODIFIED:20260224T151926Z
UID:10005307-1828117800-1828137540@titandarts.com
SUMMARY:Summer League Information Monday Events
DESCRIPTION:UNLIMITED WOMENS HANDICAP DOUBLES – MIXED 01/CRICKET – 15 GAMES – $11/PLAYER
URL:https://titandarts.com/event-2/summer-league-information-monday-events/2027-12-06/
CATEGORIES:Summer League Information
ATTACH;FMTTYPE=image/webp:https://titandarts.com/wp-content/uploads/2026/02/imgi_6_rsw_400h_533-1.webp
END:VEVENT
END:VCALENDAR