BEGIN:VCALENDAR
VERSION:2.0
PRODID:-//Titan Darts - ECPv6.15.20//NONSGML v1.0//EN
CALSCALE:GREGORIAN
METHOD:PUBLISH
X-ORIGINAL-URL:https://titandarts.com
X-WR-CALDESC:Events for Titan Darts
REFRESH-INTERVAL;VALUE=DURATION:PT1H
X-Robots-Tag:noindex
X-PUBLISHED-TTL:PT1H
BEGIN:VTIMEZONE
TZID:America/Denver
BEGIN:DAYLIGHT
TZOFFSETFROM:-0700
TZOFFSETTO:-0600
TZNAME:MDT
DTSTART:20270314T090000
END:DAYLIGHT
BEGIN:STANDARD
TZOFFSETFROM:-0600
TZOFFSETTO:-0700
TZNAME:MST
DTSTART:20271107T080000
END:STANDARD
BEGIN:DAYLIGHT
TZOFFSETFROM:-0700
TZOFFSETTO:-0600
TZNAME:MDT
DTSTART:20280312T090000
END:DAYLIGHT
BEGIN:STANDARD
TZOFFSETFROM:-0600
TZOFFSETTO:-0700
TZNAME:MST
DTSTART:20281105T080000
END:STANDARD
BEGIN:DAYLIGHT
TZOFFSETFROM:-0700
TZOFFSETTO:-0600
TZNAME:MDT
DTSTART:20290311T090000
END:DAYLIGHT
BEGIN:STANDARD
TZOFFSETFROM:-0600
TZOFFSETTO:-0700
TZNAME:MST
DTSTART:20291104T080000
END:STANDARD
END:VTIMEZONE
BEGIN:VEVENT
DTSTART;TZID=America/Denver:20280418T183000
DTEND;TZID=America/Denver:20280418T235900
DTSTAMP:20260422T155051
CREATED:20260224T113859Z
LAST-MODIFIED:20260224T151841Z
UID:10005587-1839695400-1839715140@titandarts.com
SUMMARY:Summer League Information Tuesday Events
DESCRIPTION:21 CAP HANDICAP DOUBLES – MIXED 01/CRICKET – 19 GAMES – $15/PLAYER
URL:https://titandarts.com/event-2/summer-league-information-tuesday-events/2028-04-18/
CATEGORIES:Summer League Information
ATTACH;FMTTYPE=image/webp:https://titandarts.com/wp-content/uploads/2026/02/imgi_6_rsw_400h_533-1.webp
END:VEVENT
BEGIN:VEVENT
DTSTART;VALUE=DATE:20280419
DTEND;VALUE=DATE:20280420
DTSTAMP:20260422T155051
CREATED:20260224T114057Z
LAST-MODIFIED:20260224T152041Z
UID:10004284-1839715200-1839801599@titandarts.com
SUMMARY:Summer League Information Wednesday Events
DESCRIPTION:15 CAP HANDICAP DOUBLES – MIXED 01/ CRICKET – 17 GAMES – $11/PLAYER
URL:https://titandarts.com/event-2/summer-league-information-wednesday-events/2028-04-19/
CATEGORIES:Summer League Information
ATTACH;FMTTYPE=image/webp:https://titandarts.com/wp-content/uploads/2026/02/imgi_6_rsw_400h_533-1.webp
END:VEVENT
BEGIN:VEVENT
DTSTART;TZID=America/Denver:20280419T183000
DTEND;TZID=America/Denver:20280419T220000
DTSTAMP:20260422T155051
CREATED:20260224T112622Z
LAST-MODIFIED:20260224T114011Z
UID:10004024-1839781800-1839794400@titandarts.com
SUMMARY:Fall League Information Wednesday Events
DESCRIPTION:C DOUBLES 8 CAP – 501 OI/OO / CRICKET – 15 GAMES – $10 PER PLAYER PER WEEK \nA DOUBLES 18 CAP – 701 OI/OO / CRICKET – 19 GAMES – $13 PER PLAYER PER WEEK
URL:https://titandarts.com/event-2/fall-league-information-wednesday-events/2028-04-19/
CATEGORIES:Fall League Information
ATTACH;FMTTYPE=image/png:https://titandarts.com/wp-content/uploads/2026/02/imgi_5_rsw_400h_533.png
END:VEVENT
BEGIN:VEVENT
DTSTART;TZID=America/Denver:20280420T183000
DTEND;TZID=America/Denver:20280420T220000
DTSTAMP:20260422T155051
CREATED:20260224T112650Z
LAST-MODIFIED:20260224T114225Z
UID:10004804-1839868200-1839880800@titandarts.com
SUMMARY:Fall League Information Thursday Events
DESCRIPTION:HANDICAP DOUBLES 16 CAP MAX – 501  OI/OO / CRICKET – 17 GAMES – $11 PER PLAYER PER WEEK \nNOVICE DOUBLES 5 CAP – 501 OI/OO / CRICKET – 13 GAMES – $9 PER PLAYER PER WEEK
URL:https://titandarts.com/event-2/fall-league-information-thursday-events/2028-04-20/
CATEGORIES:Fall League Information
ATTACH;FMTTYPE=image/png:https://titandarts.com/wp-content/uploads/2026/02/imgi_5_rsw_400h_533.png
END:VEVENT
BEGIN:VEVENT
DTSTART;TZID=America/Denver:20280420T183000
DTEND;TZID=America/Denver:20280420T220000
DTSTAMP:20260422T155051
CREATED:20260224T114252Z
LAST-MODIFIED:20260224T152121Z
UID:10005064-1839868200-1839880800@titandarts.com
SUMMARY:Summer League Information Thursday Events
DESCRIPTION:7 CAP HANDICAP – MIXED 01/CRICKET – 15 GAMES – $10/PLAYER
URL:https://titandarts.com/event-2/summer-league-information-thursday-events/2028-04-20/
CATEGORIES:Summer League Information
ATTACH;FMTTYPE=image/webp:https://titandarts.com/wp-content/uploads/2026/02/imgi_6_rsw_400h_533-1.webp
END:VEVENT
BEGIN:VEVENT
DTSTART;TZID=America/Denver:20280423T180000
DTEND;TZID=America/Denver:20280423T220000
DTSTAMP:20260422T155051
CREATED:20260224T082032Z
LAST-MODIFIED:20260224T112121Z
UID:10000113-1840125600-1840140000@titandarts.com
SUMMARY:Fall League Information Sunday Events
DESCRIPTION:PINK LADIES WOMEN’S LEAGUE 15 POINT CAP – HANDICAPPED – 501 OI/OO / CRICKET – 15 GAMES – $11 PER PLAYER PER WEEK *NOW WITH SINGLES* \nBB TRIOS 20 CAP – HANDICAPPED – 701OI/OO / CRICKET -17 GAMES – $10 PER PLAYER PER WEEK \nMASTER TRIOS 27 CAP – 19 GAMES – 701OI/MO / CRICKET – $15 PER PLAYER PER WEEK \n9 AND ABOVE SINGLES – 19 GAMES – 501 OI/MO / CK – $20 PER PLAYER PER WEEK $10 PER WEEK INTO THE PRIZE FUND \n8 AND UNDER SINGLES – 15 GAMES – 501 OI/OO / CK – $15 PER PLAYER PER WEEK $7.50 PER WEEK INTO THE PRIZE FUND
URL:https://titandarts.com/event-2/fall-league-information-sunday/2028-04-23/
CATEGORIES:Fall League Information
ATTACH;FMTTYPE=image/png:https://titandarts.com/wp-content/uploads/2026/02/imgi_5_rsw_400h_533.png
END:VEVENT
BEGIN:VEVENT
DTSTART;TZID=America/Denver:20280424T183000
DTEND;TZID=America/Denver:20280424T220000
DTSTAMP:20260422T155051
CREATED:20260224T112515Z
LAST-MODIFIED:20260224T112515Z
UID:10001679-1840213800-1840226400@titandarts.com
SUMMARY:Fall League Information Monday Events
DESCRIPTION:B DOUBLES 10 CAP – 501 OI/OO / CK MIX – 17 GAMES – $11 PER PLAYER PER WEEK \nMASTER DOUBLES 24 CAP – 701 OI/MO / 501 DI/DO / CK – $15 PER PLAYER PER WEEK
URL:https://titandarts.com/event-2/fall-league-information-monday-events/2028-04-24/
CATEGORIES:Fall League Information
ATTACH;FMTTYPE=image/png:https://titandarts.com/wp-content/uploads/2026/02/imgi_5_rsw_400h_533.png
END:VEVENT
BEGIN:VEVENT
DTSTART;TZID=America/Denver:20280424T183000
DTEND;TZID=America/Denver:20280424T235900
DTSTAMP:20260422T155051
CREATED:20260224T113456Z
LAST-MODIFIED:20260224T151926Z
UID:10005327-1840213800-1840233540@titandarts.com
SUMMARY:Summer League Information Monday Events
DESCRIPTION:UNLIMITED WOMENS HANDICAP DOUBLES – MIXED 01/CRICKET – 15 GAMES – $11/PLAYER
URL:https://titandarts.com/event-2/summer-league-information-monday-events/2028-04-24/
CATEGORIES:Summer League Information
ATTACH;FMTTYPE=image/webp:https://titandarts.com/wp-content/uploads/2026/02/imgi_6_rsw_400h_533-1.webp
END:VEVENT
BEGIN:VEVENT
DTSTART;TZID=America/Denver:20280425T183000
DTEND;TZID=America/Denver:20280425T220000
DTSTAMP:20260422T155051
CREATED:20260224T112553Z
LAST-MODIFIED:20260224T112553Z
UID:10001940-1840300200-1840312800@titandarts.com
SUMMARY:Fall League Information Tuesday Events
DESCRIPTION:BB DOUBLES 14 CAP – 501 OI/OO / CRICKET – 17 GAMES – $11 PER PLAYER PER WEEK \nAA DOUBLES 21 CAP – 701 OI/MO / CRICKET – 19 GAMES – $15 PER PLAYER PER WEEK
URL:https://titandarts.com/event-2/fall-league-information-tuesday-events/2028-04-25/
CATEGORIES:Fall League Information
ATTACH;FMTTYPE=image/png:https://titandarts.com/wp-content/uploads/2026/02/imgi_5_rsw_400h_533.png
END:VEVENT
BEGIN:VEVENT
DTSTART;TZID=America/Denver:20280425T183000
DTEND;TZID=America/Denver:20280425T235900
DTSTAMP:20260422T155051
CREATED:20260224T113859Z
LAST-MODIFIED:20260224T151841Z
UID:10005588-1840300200-1840319940@titandarts.com
SUMMARY:Summer League Information Tuesday Events
DESCRIPTION:21 CAP HANDICAP DOUBLES – MIXED 01/CRICKET – 19 GAMES – $15/PLAYER
URL:https://titandarts.com/event-2/summer-league-information-tuesday-events/2028-04-25/
CATEGORIES:Summer League Information
ATTACH;FMTTYPE=image/webp:https://titandarts.com/wp-content/uploads/2026/02/imgi_6_rsw_400h_533-1.webp
END:VEVENT
BEGIN:VEVENT
DTSTART;VALUE=DATE:20280426
DTEND;VALUE=DATE:20280427
DTSTAMP:20260422T155051
CREATED:20260224T114057Z
LAST-MODIFIED:20260224T152041Z
UID:10004285-1840320000-1840406399@titandarts.com
SUMMARY:Summer League Information Wednesday Events
DESCRIPTION:15 CAP HANDICAP DOUBLES – MIXED 01/ CRICKET – 17 GAMES – $11/PLAYER
URL:https://titandarts.com/event-2/summer-league-information-wednesday-events/2028-04-26/
CATEGORIES:Summer League Information
ATTACH;FMTTYPE=image/webp:https://titandarts.com/wp-content/uploads/2026/02/imgi_6_rsw_400h_533-1.webp
END:VEVENT
BEGIN:VEVENT
DTSTART;TZID=America/Denver:20280426T183000
DTEND;TZID=America/Denver:20280426T220000
DTSTAMP:20260422T155051
CREATED:20260224T112622Z
LAST-MODIFIED:20260224T114011Z
UID:10004025-1840386600-1840399200@titandarts.com
SUMMARY:Fall League Information Wednesday Events
DESCRIPTION:C DOUBLES 8 CAP – 501 OI/OO / CRICKET – 15 GAMES – $10 PER PLAYER PER WEEK \nA DOUBLES 18 CAP – 701 OI/OO / CRICKET – 19 GAMES – $13 PER PLAYER PER WEEK
URL:https://titandarts.com/event-2/fall-league-information-wednesday-events/2028-04-26/
CATEGORIES:Fall League Information
ATTACH;FMTTYPE=image/png:https://titandarts.com/wp-content/uploads/2026/02/imgi_5_rsw_400h_533.png
END:VEVENT
BEGIN:VEVENT
DTSTART;TZID=America/Denver:20280427T183000
DTEND;TZID=America/Denver:20280427T220000
DTSTAMP:20260422T155051
CREATED:20260224T112650Z
LAST-MODIFIED:20260224T114225Z
UID:10004805-1840473000-1840485600@titandarts.com
SUMMARY:Fall League Information Thursday Events
DESCRIPTION:HANDICAP DOUBLES 16 CAP MAX – 501  OI/OO / CRICKET – 17 GAMES – $11 PER PLAYER PER WEEK \nNOVICE DOUBLES 5 CAP – 501 OI/OO / CRICKET – 13 GAMES – $9 PER PLAYER PER WEEK
URL:https://titandarts.com/event-2/fall-league-information-thursday-events/2028-04-27/
CATEGORIES:Fall League Information
ATTACH;FMTTYPE=image/png:https://titandarts.com/wp-content/uploads/2026/02/imgi_5_rsw_400h_533.png
END:VEVENT
BEGIN:VEVENT
DTSTART;TZID=America/Denver:20280427T183000
DTEND;TZID=America/Denver:20280427T220000
DTSTAMP:20260422T155051
CREATED:20260224T114252Z
LAST-MODIFIED:20260224T152121Z
UID:10005065-1840473000-1840485600@titandarts.com
SUMMARY:Summer League Information Thursday Events
DESCRIPTION:7 CAP HANDICAP – MIXED 01/CRICKET – 15 GAMES – $10/PLAYER
URL:https://titandarts.com/event-2/summer-league-information-thursday-events/2028-04-27/
CATEGORIES:Summer League Information
ATTACH;FMTTYPE=image/webp:https://titandarts.com/wp-content/uploads/2026/02/imgi_6_rsw_400h_533-1.webp
END:VEVENT
BEGIN:VEVENT
DTSTART;TZID=America/Denver:20280430T180000
DTEND;TZID=America/Denver:20280430T220000
DTSTAMP:20260422T155051
CREATED:20260224T082032Z
LAST-MODIFIED:20260224T112121Z
UID:10000114-1840730400-1840744800@titandarts.com
SUMMARY:Fall League Information Sunday Events
DESCRIPTION:PINK LADIES WOMEN’S LEAGUE 15 POINT CAP – HANDICAPPED – 501 OI/OO / CRICKET – 15 GAMES – $11 PER PLAYER PER WEEK *NOW WITH SINGLES* \nBB TRIOS 20 CAP – HANDICAPPED – 701OI/OO / CRICKET -17 GAMES – $10 PER PLAYER PER WEEK \nMASTER TRIOS 27 CAP – 19 GAMES – 701OI/MO / CRICKET – $15 PER PLAYER PER WEEK \n9 AND ABOVE SINGLES – 19 GAMES – 501 OI/MO / CK – $20 PER PLAYER PER WEEK $10 PER WEEK INTO THE PRIZE FUND \n8 AND UNDER SINGLES – 15 GAMES – 501 OI/OO / CK – $15 PER PLAYER PER WEEK $7.50 PER WEEK INTO THE PRIZE FUND
URL:https://titandarts.com/event-2/fall-league-information-sunday/2028-04-30/
CATEGORIES:Fall League Information
ATTACH;FMTTYPE=image/png:https://titandarts.com/wp-content/uploads/2026/02/imgi_5_rsw_400h_533.png
END:VEVENT
BEGIN:VEVENT
DTSTART;TZID=America/Denver:20280501T183000
DTEND;TZID=America/Denver:20280501T220000
DTSTAMP:20260422T155051
CREATED:20260224T112515Z
LAST-MODIFIED:20260224T112515Z
UID:10001680-1840818600-1840831200@titandarts.com
SUMMARY:Fall League Information Monday Events
DESCRIPTION:B DOUBLES 10 CAP – 501 OI/OO / CK MIX – 17 GAMES – $11 PER PLAYER PER WEEK \nMASTER DOUBLES 24 CAP – 701 OI/MO / 501 DI/DO / CK – $15 PER PLAYER PER WEEK
URL:https://titandarts.com/event-2/fall-league-information-monday-events/2028-05-01/
CATEGORIES:Fall League Information
ATTACH;FMTTYPE=image/png:https://titandarts.com/wp-content/uploads/2026/02/imgi_5_rsw_400h_533.png
END:VEVENT
BEGIN:VEVENT
DTSTART;TZID=America/Denver:20280501T183000
DTEND;TZID=America/Denver:20280501T235900
DTSTAMP:20260422T155051
CREATED:20260224T113456Z
LAST-MODIFIED:20260224T151926Z
UID:10005328-1840818600-1840838340@titandarts.com
SUMMARY:Summer League Information Monday Events
DESCRIPTION:UNLIMITED WOMENS HANDICAP DOUBLES – MIXED 01/CRICKET – 15 GAMES – $11/PLAYER
URL:https://titandarts.com/event-2/summer-league-information-monday-events/2028-05-01/
CATEGORIES:Summer League Information
ATTACH;FMTTYPE=image/webp:https://titandarts.com/wp-content/uploads/2026/02/imgi_6_rsw_400h_533-1.webp
END:VEVENT
BEGIN:VEVENT
DTSTART;TZID=America/Denver:20280502T183000
DTEND;TZID=America/Denver:20280502T220000
DTSTAMP:20260422T155051
CREATED:20260224T112553Z
LAST-MODIFIED:20260224T112553Z
UID:10001941-1840905000-1840917600@titandarts.com
SUMMARY:Fall League Information Tuesday Events
DESCRIPTION:BB DOUBLES 14 CAP – 501 OI/OO / CRICKET – 17 GAMES – $11 PER PLAYER PER WEEK \nAA DOUBLES 21 CAP – 701 OI/MO / CRICKET – 19 GAMES – $15 PER PLAYER PER WEEK
URL:https://titandarts.com/event-2/fall-league-information-tuesday-events/2028-05-02/
CATEGORIES:Fall League Information
ATTACH;FMTTYPE=image/png:https://titandarts.com/wp-content/uploads/2026/02/imgi_5_rsw_400h_533.png
END:VEVENT
BEGIN:VEVENT
DTSTART;TZID=America/Denver:20280502T183000
DTEND;TZID=America/Denver:20280502T235900
DTSTAMP:20260422T155051
CREATED:20260224T113859Z
LAST-MODIFIED:20260224T151841Z
UID:10005589-1840905000-1840924740@titandarts.com
SUMMARY:Summer League Information Tuesday Events
DESCRIPTION:21 CAP HANDICAP DOUBLES – MIXED 01/CRICKET – 19 GAMES – $15/PLAYER
URL:https://titandarts.com/event-2/summer-league-information-tuesday-events/2028-05-02/
CATEGORIES:Summer League Information
ATTACH;FMTTYPE=image/webp:https://titandarts.com/wp-content/uploads/2026/02/imgi_6_rsw_400h_533-1.webp
END:VEVENT
BEGIN:VEVENT
DTSTART;VALUE=DATE:20280503
DTEND;VALUE=DATE:20280504
DTSTAMP:20260422T155051
CREATED:20260224T114057Z
LAST-MODIFIED:20260224T152041Z
UID:10004286-1840924800-1841011199@titandarts.com
SUMMARY:Summer League Information Wednesday Events
DESCRIPTION:15 CAP HANDICAP DOUBLES – MIXED 01/ CRICKET – 17 GAMES – $11/PLAYER
URL:https://titandarts.com/event-2/summer-league-information-wednesday-events/2028-05-03/
CATEGORIES:Summer League Information
ATTACH;FMTTYPE=image/webp:https://titandarts.com/wp-content/uploads/2026/02/imgi_6_rsw_400h_533-1.webp
END:VEVENT
BEGIN:VEVENT
DTSTART;TZID=America/Denver:20280503T183000
DTEND;TZID=America/Denver:20280503T220000
DTSTAMP:20260422T155051
CREATED:20260224T112622Z
LAST-MODIFIED:20260224T114011Z
UID:10004026-1840991400-1841004000@titandarts.com
SUMMARY:Fall League Information Wednesday Events
DESCRIPTION:C DOUBLES 8 CAP – 501 OI/OO / CRICKET – 15 GAMES – $10 PER PLAYER PER WEEK \nA DOUBLES 18 CAP – 701 OI/OO / CRICKET – 19 GAMES – $13 PER PLAYER PER WEEK
URL:https://titandarts.com/event-2/fall-league-information-wednesday-events/2028-05-03/
CATEGORIES:Fall League Information
ATTACH;FMTTYPE=image/png:https://titandarts.com/wp-content/uploads/2026/02/imgi_5_rsw_400h_533.png
END:VEVENT
BEGIN:VEVENT
DTSTART;TZID=America/Denver:20280504T183000
DTEND;TZID=America/Denver:20280504T220000
DTSTAMP:20260422T155051
CREATED:20260224T112650Z
LAST-MODIFIED:20260224T114225Z
UID:10004806-1841077800-1841090400@titandarts.com
SUMMARY:Fall League Information Thursday Events
DESCRIPTION:HANDICAP DOUBLES 16 CAP MAX – 501  OI/OO / CRICKET – 17 GAMES – $11 PER PLAYER PER WEEK \nNOVICE DOUBLES 5 CAP – 501 OI/OO / CRICKET – 13 GAMES – $9 PER PLAYER PER WEEK
URL:https://titandarts.com/event-2/fall-league-information-thursday-events/2028-05-04/
CATEGORIES:Fall League Information
ATTACH;FMTTYPE=image/png:https://titandarts.com/wp-content/uploads/2026/02/imgi_5_rsw_400h_533.png
END:VEVENT
BEGIN:VEVENT
DTSTART;TZID=America/Denver:20280504T183000
DTEND;TZID=America/Denver:20280504T220000
DTSTAMP:20260422T155051
CREATED:20260224T114252Z
LAST-MODIFIED:20260224T152121Z
UID:10005066-1841077800-1841090400@titandarts.com
SUMMARY:Summer League Information Thursday Events
DESCRIPTION:7 CAP HANDICAP – MIXED 01/CRICKET – 15 GAMES – $10/PLAYER
URL:https://titandarts.com/event-2/summer-league-information-thursday-events/2028-05-04/
CATEGORIES:Summer League Information
ATTACH;FMTTYPE=image/webp:https://titandarts.com/wp-content/uploads/2026/02/imgi_6_rsw_400h_533-1.webp
END:VEVENT
BEGIN:VEVENT
DTSTART;TZID=America/Denver:20280507T180000
DTEND;TZID=America/Denver:20280507T220000
DTSTAMP:20260422T155051
CREATED:20260224T082032Z
LAST-MODIFIED:20260224T112121Z
UID:10000115-1841335200-1841349600@titandarts.com
SUMMARY:Fall League Information Sunday Events
DESCRIPTION:PINK LADIES WOMEN’S LEAGUE 15 POINT CAP – HANDICAPPED – 501 OI/OO / CRICKET – 15 GAMES – $11 PER PLAYER PER WEEK *NOW WITH SINGLES* \nBB TRIOS 20 CAP – HANDICAPPED – 701OI/OO / CRICKET -17 GAMES – $10 PER PLAYER PER WEEK \nMASTER TRIOS 27 CAP – 19 GAMES – 701OI/MO / CRICKET – $15 PER PLAYER PER WEEK \n9 AND ABOVE SINGLES – 19 GAMES – 501 OI/MO / CK – $20 PER PLAYER PER WEEK $10 PER WEEK INTO THE PRIZE FUND \n8 AND UNDER SINGLES – 15 GAMES – 501 OI/OO / CK – $15 PER PLAYER PER WEEK $7.50 PER WEEK INTO THE PRIZE FUND
URL:https://titandarts.com/event-2/fall-league-information-sunday/2028-05-07/
CATEGORIES:Fall League Information
ATTACH;FMTTYPE=image/png:https://titandarts.com/wp-content/uploads/2026/02/imgi_5_rsw_400h_533.png
END:VEVENT
BEGIN:VEVENT
DTSTART;TZID=America/Denver:20280508T183000
DTEND;TZID=America/Denver:20280508T220000
DTSTAMP:20260422T155051
CREATED:20260224T112515Z
LAST-MODIFIED:20260224T112515Z
UID:10001681-1841423400-1841436000@titandarts.com
SUMMARY:Fall League Information Monday Events
DESCRIPTION:B DOUBLES 10 CAP – 501 OI/OO / CK MIX – 17 GAMES – $11 PER PLAYER PER WEEK \nMASTER DOUBLES 24 CAP – 701 OI/MO / 501 DI/DO / CK – $15 PER PLAYER PER WEEK
URL:https://titandarts.com/event-2/fall-league-information-monday-events/2028-05-08/
CATEGORIES:Fall League Information
ATTACH;FMTTYPE=image/png:https://titandarts.com/wp-content/uploads/2026/02/imgi_5_rsw_400h_533.png
END:VEVENT
BEGIN:VEVENT
DTSTART;TZID=America/Denver:20280508T183000
DTEND;TZID=America/Denver:20280508T235900
DTSTAMP:20260422T155051
CREATED:20260224T113456Z
LAST-MODIFIED:20260224T151926Z
UID:10005329-1841423400-1841443140@titandarts.com
SUMMARY:Summer League Information Monday Events
DESCRIPTION:UNLIMITED WOMENS HANDICAP DOUBLES – MIXED 01/CRICKET – 15 GAMES – $11/PLAYER
URL:https://titandarts.com/event-2/summer-league-information-monday-events/2028-05-08/
CATEGORIES:Summer League Information
ATTACH;FMTTYPE=image/webp:https://titandarts.com/wp-content/uploads/2026/02/imgi_6_rsw_400h_533-1.webp
END:VEVENT
BEGIN:VEVENT
DTSTART;TZID=America/Denver:20280509T183000
DTEND;TZID=America/Denver:20280509T220000
DTSTAMP:20260422T155051
CREATED:20260224T112553Z
LAST-MODIFIED:20260224T112553Z
UID:10001942-1841509800-1841522400@titandarts.com
SUMMARY:Fall League Information Tuesday Events
DESCRIPTION:BB DOUBLES 14 CAP – 501 OI/OO / CRICKET – 17 GAMES – $11 PER PLAYER PER WEEK \nAA DOUBLES 21 CAP – 701 OI/MO / CRICKET – 19 GAMES – $15 PER PLAYER PER WEEK
URL:https://titandarts.com/event-2/fall-league-information-tuesday-events/2028-05-09/
CATEGORIES:Fall League Information
ATTACH;FMTTYPE=image/png:https://titandarts.com/wp-content/uploads/2026/02/imgi_5_rsw_400h_533.png
END:VEVENT
BEGIN:VEVENT
DTSTART;TZID=America/Denver:20280509T183000
DTEND;TZID=America/Denver:20280509T235900
DTSTAMP:20260422T155051
CREATED:20260224T113859Z
LAST-MODIFIED:20260224T151841Z
UID:10005590-1841509800-1841529540@titandarts.com
SUMMARY:Summer League Information Tuesday Events
DESCRIPTION:21 CAP HANDICAP DOUBLES – MIXED 01/CRICKET – 19 GAMES – $15/PLAYER
URL:https://titandarts.com/event-2/summer-league-information-tuesday-events/2028-05-09/
CATEGORIES:Summer League Information
ATTACH;FMTTYPE=image/webp:https://titandarts.com/wp-content/uploads/2026/02/imgi_6_rsw_400h_533-1.webp
END:VEVENT
BEGIN:VEVENT
DTSTART;VALUE=DATE:20280510
DTEND;VALUE=DATE:20280511
DTSTAMP:20260422T155051
CREATED:20260224T114057Z
LAST-MODIFIED:20260224T152041Z
UID:10004287-1841529600-1841615999@titandarts.com
SUMMARY:Summer League Information Wednesday Events
DESCRIPTION:15 CAP HANDICAP DOUBLES – MIXED 01/ CRICKET – 17 GAMES – $11/PLAYER
URL:https://titandarts.com/event-2/summer-league-information-wednesday-events/2028-05-10/
CATEGORIES:Summer League Information
ATTACH;FMTTYPE=image/webp:https://titandarts.com/wp-content/uploads/2026/02/imgi_6_rsw_400h_533-1.webp
END:VEVENT
BEGIN:VEVENT
DTSTART;TZID=America/Denver:20280510T183000
DTEND;TZID=America/Denver:20280510T220000
DTSTAMP:20260422T155051
CREATED:20260224T112622Z
LAST-MODIFIED:20260224T114011Z
UID:10004027-1841596200-1841608800@titandarts.com
SUMMARY:Fall League Information Wednesday Events
DESCRIPTION:C DOUBLES 8 CAP – 501 OI/OO / CRICKET – 15 GAMES – $10 PER PLAYER PER WEEK \nA DOUBLES 18 CAP – 701 OI/OO / CRICKET – 19 GAMES – $13 PER PLAYER PER WEEK
URL:https://titandarts.com/event-2/fall-league-information-wednesday-events/2028-05-10/
CATEGORIES:Fall League Information
ATTACH;FMTTYPE=image/png:https://titandarts.com/wp-content/uploads/2026/02/imgi_5_rsw_400h_533.png
END:VEVENT
END:VCALENDAR